Workbook

Sheet 売上帳
A1: 売上2025 | B1: 3 | C1: =+B1+1 -> 4 | D1: =+C1+1 -> 5 | E1: =+D1+1 -> 6 | F1: =+E1+1 -> 7 | G1: =+F1+1 -> 8 | H1: =+G1+1 -> 9 | I1: =+H1+1 -> 10 | J1: =+I1+1 -> 11 | K1: =+J1+1 -> 12 | L1: 1 | M1: =+L1+1 -> 2
A2: =SUM(B2:M2) -> 0 | B2: =+B5+仕入帳!B8+仕入帳!B11+仕入帳!B14+仕入帳!B17+仕入帳!B20+仕入帳!B23+仕入帳!B26+仕入帳!B29+仕入帳!B32+仕入帳!B35+仕入帳!B38+仕入帳!B41+仕入帳!B44+仕入帳!B47+仕入帳!B50+仕入帳!B53+仕入帳!B56+仕入帳!B59+仕入帳!B62+仕入帳!B65+仕入帳!B68+仕入帳!B71+仕入帳!B74+仕入帳!B77+仕入帳!B80+仕入帳!B83+仕入帳!B86+仕入帳!B89+仕入帳!B92+仕入帳!B95+仕入帳!B98+仕入帳!B101+仕入帳!B104+仕入帳!B107+仕入帳!B110+仕入帳!B113+仕入帳!B116+仕入帳!B119+仕入帳!B122+仕入帳!B125+仕入帳!B128+仕入帳!B131+仕入帳!B134+仕入帳!B137+仕入帳!B140+仕入帳!B143+仕入帳!B146+仕入帳!B149+仕入帳!B152+仕入帳!B155+仕入帳!B158+仕入帳!B161+仕入帳!B164+仕入帳!B167+仕入帳!B170+仕入帳!B173+仕入帳!B176+仕入帳!B179+仕入帳!B182+仕入帳!B185+仕入帳!B188+仕入帳!B191+仕入帳!B194+仕入帳!B197+仕入帳!B200+仕入帳!B203+仕入帳!B206+仕入帳!B209+仕入帳!B212+仕入帳!B215+仕入帳!B218+仕入帳!B221+仕入帳!B224+仕入帳!B227+仕入帳!B230+仕入帳!B233+仕入帳!B236+仕入帳!B239+仕入帳!B242+仕入帳!B245+仕入帳!B248+仕入帳!B251+仕入帳!B254+仕入帳!B257+仕入帳!B260+仕入帳!B263+仕入帳!B266+仕入帳!B269+仕入帳!B272+仕入帳!B275+仕入帳!B278+仕入帳!B281+仕入帳!B284+仕入帳!B287+仕入帳!B290+仕入帳!B293+仕入帳!B296+仕入帳!B299+仕入帳!B302+仕入帳!B305+仕入帳!B308+仕入帳!B311+仕入帳!B314+仕入帳!B317+仕入帳!B320+仕入帳!B323+仕入帳!B326 -> 0 | C2: =+C5+仕入帳!C8+仕入帳!C11+仕入帳!C14+仕入帳!C17+仕入帳!C20+仕入帳!C23+仕入帳!C26+仕入帳!C29+仕入帳!C32+仕入帳!C35+仕入帳!C38+仕入帳!C41+仕入帳!C44+仕入帳!C47+仕入帳!C50+仕入帳!C53+仕入帳!C56+仕入帳!C59+仕入帳!C62+仕入帳!C65+仕入帳!C68+仕入帳!C71+仕入帳!C74+仕入帳!C77+仕入帳!C80+仕入帳!C83+仕入帳!C86+仕入帳!C89+仕入帳!C92+仕入帳!C95+仕入帳!C98+仕入帳!C101+仕入帳!C104+仕入帳!C107+仕入帳!C110+仕入帳!C113+仕入帳!C116+仕入帳!C119+仕入帳!C122+仕入帳!C125+仕入帳!C128+仕入帳!C131+仕入帳!C134+仕入帳!C137+仕入帳!C140+仕入帳!C143+仕入帳!C146+仕入帳!C149+仕入帳!C152+仕入帳!C155+仕入帳!C158+仕入帳!C161+仕入帳!C164+仕入帳!C167+仕入帳!C170+仕入帳!C173+仕入帳!C176+仕入帳!C179+仕入帳!C182+仕入帳!C185+仕入帳!C188+仕入帳!C191+仕入帳!C194+仕入帳!C197+仕入帳!C200+仕入帳!C203+仕入帳!C206+仕入帳!C209+仕入帳!C212+仕入帳!C215+仕入帳!C218+仕入帳!C221+仕入帳!C224+仕入帳!C227+仕入帳!C230+仕入帳!C233+仕入帳!C236+仕入帳!C239+仕入帳!C242+仕入帳!C245+仕入帳!C248+仕入帳!C251+仕入帳!C254+仕入帳!C257+仕入帳!C260+仕入帳!C263+仕入帳!C266+仕入帳!C269+仕入帳!C272+仕入帳!C275+仕入帳!C278+仕入帳!C281+仕入帳!C284+仕入帳!C287+仕入帳!C290+仕入帳!C293+仕入帳!C296+仕入帳!C299+仕入帳!C302+仕入帳!C305+仕入帳!C308+仕入帳!C311+仕入帳!C314+仕入帳!C317+仕入帳!C320+仕入帳!C323+仕入帳!C326 -> 0 | D2: =+D5+仕入帳!D8+仕入帳!D11+仕入帳!D14+仕入帳!D17+仕入帳!D20+仕入帳!D23+仕入帳!D26+仕入帳!D29+仕入帳!D32+仕入帳!D35+仕入帳!D38+仕入帳!D41+仕入帳!D44+仕入帳!D47+仕入帳!D50+仕入帳!D53+仕入帳!D56+仕入帳!D59+仕入帳!D62+仕入帳!D65+仕入帳!D68+仕入帳!D71+仕入帳!D74+仕入帳!D77+仕入帳!D80+仕入帳!D83+仕入帳!D86+仕入帳!D89+仕入帳!D92+仕入帳!D95+仕入帳!D98+仕入帳!D101+仕入帳!D104+仕入帳!D107+仕入帳!D110+仕入帳!D113+仕入帳!D116+仕入帳!D119+仕入帳!D122+仕入帳!D125+仕入帳!D128+仕入帳!D131+仕入帳!D134+仕入帳!D137+仕入帳!D140+仕入帳!D143+仕入帳!D146+仕入帳!D149+仕入帳!D152+仕入帳!D155+仕入帳!D158+仕入帳!D161+仕入帳!D164+仕入帳!D167+仕入帳!D170+仕入帳!D173+仕入帳!D176+仕入帳!D179+仕入帳!D182+仕入帳!D185+仕入帳!D188+仕入帳!D191+仕入帳!D194+仕入帳!D197+仕入帳!D200+仕入帳!D203+仕入帳!D206+仕入帳!D209+仕入帳!D212+仕入帳!D215+仕入帳!D218+仕入帳!D221+仕入帳!D224+仕入帳!D227+仕入帳!D230+仕入帳!D233+仕入帳!D236+仕入帳!D239+仕入帳!D242+仕入帳!D245+仕入帳!D248+仕入帳!D251+仕入帳!D254+仕入帳!D257+仕入帳!D260+仕入帳!D263+仕入帳!D266+仕入帳!D269+仕入帳!D272+仕入帳!D275+仕入帳!D278+仕入帳!D281+仕入帳!D284+仕入帳!D287+仕入帳!D290+仕入帳!D293+仕入帳!D296+仕入帳!D299+仕入帳!D302+仕入帳!D305+仕入帳!D308+仕入帳!D311+仕入帳!D314+仕入帳!D317+仕入帳!D320+仕入帳!D323+仕入帳!D326 -> 0 | E2: =+E5+仕入帳!E8+仕入帳!E11+仕入帳!E14+仕入帳!E17+仕入帳!E20+仕入帳!E23+仕入帳!E26+仕入帳!E29+仕入帳!E32+仕入帳!E35+仕入帳!E38+仕入帳!E41+仕入帳!E44+仕入帳!E47+仕入帳!E50+仕入帳!E53+仕入帳!E56+仕入帳!E59+仕入帳!E62+仕入帳!E65+仕入帳!E68+仕入帳!E71+仕入帳!E74+仕入帳!E77+仕入帳!E80+仕入帳!E83+仕入帳!E86+仕入帳!E89+仕入帳!E92+仕入帳!E95+仕入帳!E98+仕入帳!E101+仕入帳!E104+仕入帳!E107+仕入帳!E110+仕入帳!E113+仕入帳!E116+仕入帳!E119+仕入帳!E122+仕入帳!E125+仕入帳!E128+仕入帳!E131+仕入帳!E134+仕入帳!E137+仕入帳!E140+仕入帳!E143+仕入帳!E146+仕入帳!E149+仕入帳!E152+仕入帳!E155+仕入帳!E158+仕入帳!E161+仕入帳!E164+仕入帳!E167+仕入帳!E170+仕入帳!E173+仕入帳!E176+仕入帳!E179+仕入帳!E182+仕入帳!E185+仕入帳!E188+仕入帳!E191+仕入帳!E194+仕入帳!E197+仕入帳!E200+仕入帳!E203+仕入帳!E206+仕入帳!E209+仕入帳!E212+仕入帳!E215+仕入帳!E218+仕入帳!E221+仕入帳!E224+仕入帳!E227+仕入帳!E230+仕入帳!E233+仕入帳!E236+仕入帳!E239+仕入帳!E242+仕入帳!E245+仕入帳!E248+仕入帳!E251+仕入帳!E254+仕入帳!E257+仕入帳!E260+仕入帳!E263+仕入帳!E266+仕入帳!E269+仕入帳!E272+仕入帳!E275+仕入帳!E278+仕入帳!E281+仕入帳!E284+仕入帳!E287+仕入帳!E290+仕入帳!E293+仕入帳!E296+仕入帳!E299+仕入帳!E302+仕入帳!E305+仕入帳!E308+仕入帳!E311+仕入帳!E314+仕入帳!E317+仕入帳!E320+仕入帳!E323+仕入帳!E326 -> 0 | F2: =+F5+仕入帳!F8+仕入帳!F11+仕入帳!F14+仕入帳!F17+仕入帳!F20+仕入帳!F23+仕入帳!F26+仕入帳!F29+仕入帳!F32+仕入帳!F35+仕入帳!F38+仕入帳!F41+仕入帳!F44+仕入帳!F47+仕入帳!F50+仕入帳!F53+仕入帳!F56+仕入帳!F59+仕入帳!F62+仕入帳!F65+仕入帳!F68+仕入帳!F71+仕入帳!F74+仕入帳!F77+仕入帳!F80+仕入帳!F83+仕入帳!F86+仕入帳!F89+仕入帳!F92+仕入帳!F95+仕入帳!F98+仕入帳!F101+仕入帳!F104+仕入帳!F107+仕入帳!F110+仕入帳!F113+仕入帳!F116+仕入帳!F119+仕入帳!F122+仕入帳!F125+仕入帳!F128+仕入帳!F131+仕入帳!F134+仕入帳!F137+仕入帳!F140+仕入帳!F143+仕入帳!F146+仕入帳!F149+仕入帳!F152+仕入帳!F155+仕入帳!F158+仕入帳!F161+仕入帳!F164+仕入帳!F167+仕入帳!F170+仕入帳!F173+仕入帳!F176+仕入帳!F179+仕入帳!F182+仕入帳!F185+仕入帳!F188+仕入帳!F191+仕入帳!F194+仕入帳!F197+仕入帳!F200+仕入帳!F203+仕入帳!F206+仕入帳!F209+仕入帳!F212+仕入帳!F215+仕入帳!F218+仕入帳!F221+仕入帳!F224+仕入帳!F227+仕入帳!F230+仕入帳!F233+仕入帳!F236+仕入帳!F239+仕入帳!F242+仕入帳!F245+仕入帳!F248+仕入帳!F251+仕入帳!F254+仕入帳!F257+仕入帳!F260+仕入帳!F263+仕入帳!F266+仕入帳!F269+仕入帳!F272+仕入帳!F275+仕入帳!F278+仕入帳!F281+仕入帳!F284+仕入帳!F287+仕入帳!F290+仕入帳!F293+仕入帳!F296+仕入帳!F299+仕入帳!F302+仕入帳!F305+仕入帳!F308+仕入帳!F311+仕入帳!F314+仕入帳!F317+仕入帳!F320+仕入帳!F323+仕入帳!F326 -> 0 | G2: =+G5+仕入帳!G8+仕入帳!G11+仕入帳!G14+仕入帳!G17+仕入帳!G20+仕入帳!G23+仕入帳!G26+仕入帳!G29+仕入帳!G32+仕入帳!G35+仕入帳!G38+仕入帳!G41+仕入帳!G44+仕入帳!G47+仕入帳!G50+仕入帳!G53+仕入帳!G56+仕入帳!G59+仕入帳!G62+仕入帳!G65+仕入帳!G68+仕入帳!G71+仕入帳!G74+仕入帳!G77+仕入帳!G80+仕入帳!G83+仕入帳!G86+仕入帳!G89+仕入帳!G92+仕入帳!G95+仕入帳!G98+仕入帳!G101+仕入帳!G104+仕入帳!G107+仕入帳!G110+仕入帳!G113+仕入帳!G116+仕入帳!G119+仕入帳!G122+仕入帳!G125+仕入帳!G128+仕入帳!G131+仕入帳!G134+仕入帳!G137+仕入帳!G140+仕入帳!G143+仕入帳!G146+仕入帳!G149+仕入帳!G152+仕入帳!G155+仕入帳!G158+仕入帳!G161+仕入帳!G164+仕入帳!G167+仕入帳!G170+仕入帳!G173+仕入帳!G176+仕入帳!G179+仕入帳!G182+仕入帳!G185+仕入帳!G188+仕入帳!G191+仕入帳!G194+仕入帳!G197+仕入帳!G200+仕入帳!G203+仕入帳!G206+仕入帳!G209+仕入帳!G212+仕入帳!G215+仕入帳!G218+仕入帳!G221+仕入帳!G224+仕入帳!G227+仕入帳!G230+仕入帳!G233+仕入帳!G236+仕入帳!G239+仕入帳!G242+仕入帳!G245+仕入帳!G248+仕入帳!G251+仕入帳!G254+仕入帳!G257+仕入帳!G260+仕入帳!G263+仕入帳!G266+仕入帳!G269+仕入帳!G272+仕入帳!G275+仕入帳!G278+仕入帳!G281+仕入帳!G284+仕入帳!G287+仕入帳!G290+仕入帳!G293+仕入帳!G296+仕入帳!G299+仕入帳!G302+仕入帳!G305+仕入帳!G308+仕入帳!G311+仕入帳!G314+仕入帳!G317+仕入帳!G320+仕入帳!G323+仕入帳!G326 -> 0 | H2: =+H5+仕入帳!H8+仕入帳!H11+仕入帳!H14+仕入帳!H17+仕入帳!H20+仕入帳!H23+仕入帳!H26+仕入帳!H29+仕入帳!H32+仕入帳!H35+仕入帳!H38+仕入帳!H41+仕入帳!H44+仕入帳!H47+仕入帳!H50+仕入帳!H53+仕入帳!H56+仕入帳!H59+仕入帳!H62+仕入帳!H65+仕入帳!H68+仕入帳!H71+仕入帳!H74+仕入帳!H77+仕入帳!H80+仕入帳!H83+仕入帳!H86+仕入帳!H89+仕入帳!H92+仕入帳!H95+仕入帳!H98+仕入帳!H101+仕入帳!H104+仕入帳!H107+仕入帳!H110+仕入帳!H113+仕入帳!H116+仕入帳!H119+仕入帳!H122+仕入帳!H125+仕入帳!H128+仕入帳!H131+仕入帳!H134+仕入帳!H137+仕入帳!H140+仕入帳!H143+仕入帳!H146+仕入帳!H149+仕入帳!H152+仕入帳!H155+仕入帳!H158+仕入帳!H161+仕入帳!H164+仕入帳!H167+仕入帳!H170+仕入帳!H173+仕入帳!H176+仕入帳!H179+仕入帳!H182+仕入帳!H185+仕入帳!H188+仕入帳!H191+仕入帳!H194+仕入帳!H197+仕入帳!H200+仕入帳!H203+仕入帳!H206+仕入帳!H209+仕入帳!H212+仕入帳!H215+仕入帳!H218+仕入帳!H221+仕入帳!H224+仕入帳!H227+仕入帳!H230+仕入帳!H233+仕入帳!H236+仕入帳!H239+仕入帳!H242+仕入帳!H245+仕入帳!H248+仕入帳!H251+仕入帳!H254+仕入帳!H257+仕入帳!H260+仕入帳!H263+仕入帳!H266+仕入帳!H269+仕入帳!H272+仕入帳!H275+仕入帳!H278+仕入帳!H281+仕入帳!H284+仕入帳!H287+仕入帳!H290+仕入帳!H293+仕入帳!H296+仕入帳!H299+仕入帳!H302+仕入帳!H305+仕入帳!H308+仕入帳!H311+仕入帳!H314+仕入帳!H317+仕入帳!H320+仕入帳!H323+仕入帳!H326 -> 0 | I2: =+I5+仕入帳!I8+仕入帳!I11+仕入帳!I14+仕入帳!I17+仕入帳!I20+仕入帳!I23+仕入帳!I26+仕入帳!I29+仕入帳!I32+仕入帳!I35+仕入帳!I38+仕入帳!I41+仕入帳!I44+仕入帳!I47+仕入帳!I50+仕入帳!I53+仕入帳!I56+仕入帳!I59+仕入帳!I62+仕入帳!I65+仕入帳!I68+仕入帳!I71+仕入帳!I74+仕入帳!I77+仕入帳!I80+仕入帳!I83+仕入帳!I86+仕入帳!I89+仕入帳!I92+仕入帳!I95+仕入帳!I98+仕入帳!I101+仕入帳!I104+仕入帳!I107+仕入帳!I110+仕入帳!I113+仕入帳!I116+仕入帳!I119+仕入帳!I122+仕入帳!I125+仕入帳!I128+仕入帳!I131+仕入帳!I134+仕入帳!I137+仕入帳!I140+仕入帳!I143+仕入帳!I146+仕入帳!I149+仕入帳!I152+仕入帳!I155+仕入帳!I158+仕入帳!I161+仕入帳!I164+仕入帳!I167+仕入帳!I170+仕入帳!I173+仕入帳!I176+仕入帳!I179+仕入帳!I182+仕入帳!I185+仕入帳!I188+仕入帳!I191+仕入帳!I194+仕入帳!I197+仕入帳!I200+仕入帳!I203+仕入帳!I206+仕入帳!I209+仕入帳!I212+仕入帳!I215+仕入帳!I218+仕入帳!I221+仕入帳!I224+仕入帳!I227+仕入帳!I230+仕入帳!I233+仕入帳!I236+仕入帳!I239+仕入帳!I242+仕入帳!I245+仕入帳!I248+仕入帳!I251+仕入帳!I254+仕入帳!I257+仕入帳!I260+仕入帳!I263+仕入帳!I266+仕入帳!I269+仕入帳!I272+仕入帳!I275+仕入帳!I278+仕入帳!I281+仕入帳!I284+仕入帳!I287+仕入帳!I290+仕入帳!I293+仕入帳!I296+仕入帳!I299+仕入帳!I302+仕入帳!I305+仕入帳!I308+仕入帳!I311+仕入帳!I314+仕入帳!I317+仕入帳!I320+仕入帳!I323+仕入帳!I326 -> 0 | ... M2: =+M5+仕入帳!M8+仕入帳!M11+仕入帳!M14+仕入帳!M17+仕入帳!M20+仕入帳!M23+仕入帳!M26+仕入帳!M29+仕入帳!M32+仕入帳!M35+仕入帳!M38+仕入帳!M41+仕入帳!M44+仕入帳!M47+仕入帳!M50+仕入帳!M53+仕入帳!M56+仕入帳!M59+仕入帳!M62+仕入帳!M65+仕入帳!M68+仕入帳!M71+仕入帳!M74+仕入帳!M77+仕入帳!M80+仕入帳!M83+仕入帳!M86+仕入帳!M89+仕入帳!M92+仕入帳!M95+仕入帳!M98+仕入帳!M101+仕入帳!M104+仕入帳!M107+仕入帳!M110+仕入帳!M113+仕入帳!M116+仕入帳!M119+仕入帳!M122+仕入帳!M125+仕入帳!M128+仕入帳!M131+仕入帳!M134+仕入帳!M137+仕入帳!M140+仕入帳!M143+仕入帳!M146+仕入帳!M149+仕入帳!M152+仕入帳!M155+仕入帳!M158+仕入帳!M161+仕入帳!M164+仕入帳!M167+仕入帳!M170+仕入帳!M173+仕入帳!M176+仕入帳!M179+仕入帳!M182+仕入帳!M185+仕入帳!M188+仕入帳!M191+仕入帳!M194+仕入帳!M197+仕入帳!M200+仕入帳!M203+仕入帳!M206+仕入帳!M209+仕入帳!M212+仕入帳!M215+仕入帳!M218+仕入帳!M221+仕入帳!M224+仕入帳!M227+仕入帳!M230+仕入帳!M233+仕入帳!M236+仕入帳!M239+仕入帳!M242+仕入帳!M245+仕入帳!M248+仕入帳!M251+仕入帳!M254+仕入帳!M257+仕入帳!M260+仕入帳!M263+仕入帳!M266+仕入帳!M269+仕入帳!M272+仕入帳!M275+仕入帳!M278+仕入帳!M281+仕入帳!M284+仕入帳!M287+仕入帳!M290+仕入帳!M293+仕入帳!M296+仕入帳!M299+仕入帳!M302+仕入帳!M305+仕入帳!M308+仕入帳!M311+仕入帳!M314+仕入帳!M317+仕入帳!M320+仕入帳!M323+仕入帳!M326 -> 0 | N2: =+N5+N8+N11+N14+N17+N20+N23+N26+N29+N32+N35+N38+N41+N44+N47+N50+N53+N56+N59+N62+N65+N68+N71+N74+N77+N80+N83+N86+N89+N92+N95+N98+N101+N104+N107+N110+N113+N116+N119+N122+N125+N128+N131+N134+N137+N140+N143+N146+N149+N152+N155+N158+N161+N164+N167+N170+N173+N176+N179+N182+N185+N188+N191+N194+N197+N200+N203+N206+N209+N212+N215+N218+N221+N224+N227+N230+N233+N236+N239+N242+N245+N248+N251+N254+N257+N260+N263+N266+N269+N272+N275+N278+N281+N284+N287+N290+N293+N296+N299+N302+N305+N308+N311+N314+N317+N320 -> 0
B3: =+B6+仕入帳!B9+仕入帳!B12+仕入帳!B15+仕入帳!B18+仕入帳!B21+仕入帳!B24+仕入帳!B27+仕入帳!B30+仕入帳!B33+仕入帳!B36+仕入帳!B39+仕入帳!B42+仕入帳!B45+仕入帳!B48+仕入帳!B51+仕入帳!B54+仕入帳!B57+仕入帳!B60+仕入帳!B63+仕入帳!B66+仕入帳!B69+仕入帳!B72+仕入帳!B75+仕入帳!B78+仕入帳!B81+仕入帳!B84+仕入帳!B87+仕入帳!B90+仕入帳!B93+仕入帳!B96+仕入帳!B99+仕入帳!B102+仕入帳!B105+仕入帳!B108+仕入帳!B111+仕入帳!B114+仕入帳!B117+仕入帳!B120+仕入帳!B123+仕入帳!B126+仕入帳!B129+仕入帳!B132+仕入帳!B135+仕入帳!B138+仕入帳!B141+仕入帳!B144+仕入帳!B147+仕入帳!B150+仕入帳!B153+仕入帳!B156+仕入帳!B159+仕入帳!B162+仕入帳!B165+仕入帳!B168+仕入帳!B171+仕入帳!B174+仕入帳!B177+仕入帳!B180+仕入帳!B183+仕入帳!B186+仕入帳!B189+仕入帳!B192+仕入帳!B195+仕入帳!B198+仕入帳!B201+仕入帳!B204+仕入帳!B207+仕入帳!B210+仕入帳!B213+仕入帳!B216+仕入帳!B219+仕入帳!B222+仕入帳!B225+仕入帳!B228+仕入帳!B231+仕入帳!B234+仕入帳!B237+仕入帳!B240+仕入帳!B243+仕入帳!B246+仕入帳!B249+仕入帳!B252+仕入帳!B255+仕入帳!B258+仕入帳!B261+仕入帳!B264+仕入帳!B267+仕入帳!B270+仕入帳!B273+仕入帳!B276+仕入帳!B279+仕入帳!B282+仕入帳!B285+仕入帳!B288+仕入帳!B291+仕入帳!B294+仕入帳!B297+仕入帳!B300+仕入帳!B303+仕入帳!B306+仕入帳!B309+仕入帳!B312+仕入帳!B315+仕入帳!B318+仕入帳!B321+仕入帳!B324+仕入帳!B327 -> 0 | C3: =+C6+仕入帳!C9+仕入帳!C12+仕入帳!C15+仕入帳!C18+仕入帳!C21+仕入帳!C24+仕入帳!C27+仕入帳!C30+仕入帳!C33+仕入帳!C36+仕入帳!C39+仕入帳!C42+仕入帳!C45+仕入帳!C48+仕入帳!C51+仕入帳!C54+仕入帳!C57+仕入帳!C60+仕入帳!C63+仕入帳!C66+仕入帳!C69+仕入帳!C72+仕入帳!C75+仕入帳!C78+仕入帳!C81+仕入帳!C84+仕入帳!C87+仕入帳!C90+仕入帳!C93+仕入帳!C96+仕入帳!C99+仕入帳!C102+仕入帳!C105+仕入帳!C108+仕入帳!C111+仕入帳!C114+仕入帳!C117+仕入帳!C120+仕入帳!C123+仕入帳!C126+仕入帳!C129+仕入帳!C132+仕入帳!C135+仕入帳!C138+仕入帳!C141+仕入帳!C144+仕入帳!C147+仕入帳!C150+仕入帳!C153+仕入帳!C156+仕入帳!C159+仕入帳!C162+仕入帳!C165+仕入帳!C168+仕入帳!C171+仕入帳!C174+仕入帳!C177+仕入帳!C180+仕入帳!C183+仕入帳!C186+仕入帳!C189+仕入帳!C192+仕入帳!C195+仕入帳!C198+仕入帳!C201+仕入帳!C204+仕入帳!C207+仕入帳!C210+仕入帳!C213+仕入帳!C216+仕入帳!C219+仕入帳!C222+仕入帳!C225+仕入帳!C228+仕入帳!C231+仕入帳!C234+仕入帳!C237+仕入帳!C240+仕入帳!C243+仕入帳!C246+仕入帳!C249+仕入帳!C252+仕入帳!C255+仕入帳!C258+仕入帳!C261+仕入帳!C264+仕入帳!C267+仕入帳!C270+仕入帳!C273+仕入帳!C276+仕入帳!C279+仕入帳!C282+仕入帳!C285+仕入帳!C288+仕入帳!C291+仕入帳!C294+仕入帳!C297+仕入帳!C300+仕入帳!C303+仕入帳!C306+仕入帳!C309+仕入帳!C312+仕入帳!C315+仕入帳!C318+仕入帳!C321+仕入帳!C324+仕入帳!C327 -> 0 | D3: =+D6+仕入帳!D9+仕入帳!D12+仕入帳!D15+仕入帳!D18+仕入帳!D21+仕入帳!D24+仕入帳!D27+仕入帳!D30+仕入帳!D33+仕入帳!D36+仕入帳!D39+仕入帳!D42+仕入帳!D45+仕入帳!D48+仕入帳!D51+仕入帳!D54+仕入帳!D57+仕入帳!D60+仕入帳!D63+仕入帳!D66+仕入帳!D69+仕入帳!D72+仕入帳!D75+仕入帳!D78+仕入帳!D81+仕入帳!D84+仕入帳!D87+仕入帳!D90+仕入帳!D93+仕入帳!D96+仕入帳!D99+仕入帳!D102+仕入帳!D105+仕入帳!D108+仕入帳!D111+仕入帳!D114+仕入帳!D117+仕入帳!D120+仕入帳!D123+仕入帳!D126+仕入帳!D129+仕入帳!D132+仕入帳!D135+仕入帳!D138+仕入帳!D141+仕入帳!D144+仕入帳!D147+仕入帳!D150+仕入帳!D153+仕入帳!D156+仕入帳!D159+仕入帳!D162+仕入帳!D165+仕入帳!D168+仕入帳!D171+仕入帳!D174+仕入帳!D177+仕入帳!D180+仕入帳!D183+仕入帳!D186+仕入帳!D189+仕入帳!D192+仕入帳!D195+仕入帳!D198+仕入帳!D201+仕入帳!D204+仕入帳!D207+仕入帳!D210+仕入帳!D213+仕入帳!D216+仕入帳!D219+仕入帳!D222+仕入帳!D225+仕入帳!D228+仕入帳!D231+仕入帳!D234+仕入帳!D237+仕入帳!D240+仕入帳!D243+仕入帳!D246+仕入帳!D249+仕入帳!D252+仕入帳!D255+仕入帳!D258+仕入帳!D261+仕入帳!D264+仕入帳!D267+仕入帳!D270+仕入帳!D273+仕入帳!D276+仕入帳!D279+仕入帳!D282+仕入帳!D285+仕入帳!D288+仕入帳!D291+仕入帳!D294+仕入帳!D297+仕入帳!D300+仕入帳!D303+仕入帳!D306+仕入帳!D309+仕入帳!D312+仕入帳!D315+仕入帳!D318+仕入帳!D321+仕入帳!D324+仕入帳!D327 -> 0 | E3: =+E6+仕入帳!E9+仕入帳!E12+仕入帳!E15+仕入帳!E18+仕入帳!E21+仕入帳!E24+仕入帳!E27+仕入帳!E30+仕入帳!E33+仕入帳!E36+仕入帳!E39+仕入帳!E42+仕入帳!E45+仕入帳!E48+仕入帳!E51+仕入帳!E54+仕入帳!E57+仕入帳!E60+仕入帳!E63+仕入帳!E66+仕入帳!E69+仕入帳!E72+仕入帳!E75+仕入帳!E78+仕入帳!E81+仕入帳!E84+仕入帳!E87+仕入帳!E90+仕入帳!E93+仕入帳!E96+仕入帳!E99+仕入帳!E102+仕入帳!E105+仕入帳!E108+仕入帳!E111+仕入帳!E114+仕入帳!E117+仕入帳!E120+仕入帳!E123+仕入帳!E126+仕入帳!E129+仕入帳!E132+仕入帳!E135+仕入帳!E138+仕入帳!E141+仕入帳!E144+仕入帳!E147+仕入帳!E150+仕入帳!E153+仕入帳!E156+仕入帳!E159+仕入帳!E162+仕入帳!E165+仕入帳!E168+仕入帳!E171+仕入帳!E174+仕入帳!E177+仕入帳!E180+仕入帳!E183+仕入帳!E186+仕入帳!E189+仕入帳!E192+仕入帳!E195+仕入帳!E198+仕入帳!E201+仕入帳!E204+仕入帳!E207+仕入帳!E210+仕入帳!E213+仕入帳!E216+仕入帳!E219+仕入帳!E222+仕入帳!E225+仕入帳!E228+仕入帳!E231+仕入帳!E234+仕入帳!E237+仕入帳!E240+仕入帳!E243+仕入帳!E246+仕入帳!E249+仕入帳!E252+仕入帳!E255+仕入帳!E258+仕入帳!E261+仕入帳!E264+仕入帳!E267+仕入帳!E270+仕入帳!E273+仕入帳!E276+仕入帳!E279+仕入帳!E282+仕入帳!E285+仕入帳!E288+仕入帳!E291+仕入帳!E294+仕入帳!E297+仕入帳!E300+仕入帳!E303+仕入帳!E306+仕入帳!E309+仕入帳!E312+仕入帳!E315+仕入帳!E318+仕入帳!E321+仕入帳!E324+仕入帳!E327 -> 0 | F3: =+F6+仕入帳!F9+仕入帳!F12+仕入帳!F15+仕入帳!F18+仕入帳!F21+仕入帳!F24+仕入帳!F27+仕入帳!F30+仕入帳!F33+仕入帳!F36+仕入帳!F39+仕入帳!F42+仕入帳!F45+仕入帳!F48+仕入帳!F51+仕入帳!F54+仕入帳!F57+仕入帳!F60+仕入帳!F63+仕入帳!F66+仕入帳!F69+仕入帳!F72+仕入帳!F75+仕入帳!F78+仕入帳!F81+仕入帳!F84+仕入帳!F87+仕入帳!F90+仕入帳!F93+仕入帳!F96+仕入帳!F99+仕入帳!F102+仕入帳!F105+仕入帳!F108+仕入帳!F111+仕入帳!F114+仕入帳!F117+仕入帳!F120+仕入帳!F123+仕入帳!F126+仕入帳!F129+仕入帳!F132+仕入帳!F135+仕入帳!F138+仕入帳!F141+仕入帳!F144+仕入帳!F147+仕入帳!F150+仕入帳!F153+仕入帳!F156+仕入帳!F159+仕入帳!F162+仕入帳!F165+仕入帳!F168+仕入帳!F171+仕入帳!F174+仕入帳!F177+仕入帳!F180+仕入帳!F183+仕入帳!F186+仕入帳!F189+仕入帳!F192+仕入帳!F195+仕入帳!F198+仕入帳!F201+仕入帳!F204+仕入帳!F207+仕入帳!F210+仕入帳!F213+仕入帳!F216+仕入帳!F219+仕入帳!F222+仕入帳!F225+仕入帳!F228+仕入帳!F231+仕入帳!F234+仕入帳!F237+仕入帳!F240+仕入帳!F243+仕入帳!F246+仕入帳!F249+仕入帳!F252+仕入帳!F255+仕入帳!F258+仕入帳!F261+仕入帳!F264+仕入帳!F267+仕入帳!F270+仕入帳!F273+仕入帳!F276+仕入帳!F279+仕入帳!F282+仕入帳!F285+仕入帳!F288+仕入帳!F291+仕入帳!F294+仕入帳!F297+仕入帳!F300+仕入帳!F303+仕入帳!F306+仕入帳!F309+仕入帳!F312+仕入帳!F315+仕入帳!F318+仕入帳!F321+仕入帳!F324+仕入帳!F327 -> 0 | G3: =+G6+仕入帳!G9+仕入帳!G12+仕入帳!G15+仕入帳!G18+仕入帳!G21+仕入帳!G24+仕入帳!G27+仕入帳!G30+仕入帳!G33+仕入帳!G36+仕入帳!G39+仕入帳!G42+仕入帳!G45+仕入帳!G48+仕入帳!G51+仕入帳!G54+仕入帳!G57+仕入帳!G60+仕入帳!G63+仕入帳!G66+仕入帳!G69+仕入帳!G72+仕入帳!G75+仕入帳!G78+仕入帳!G81+仕入帳!G84+仕入帳!G87+仕入帳!G90+仕入帳!G93+仕入帳!G96+仕入帳!G99+仕入帳!G102+仕入帳!G105+仕入帳!G108+仕入帳!G111+仕入帳!G114+仕入帳!G117+仕入帳!G120+仕入帳!G123+仕入帳!G126+仕入帳!G129+仕入帳!G132+仕入帳!G135+仕入帳!G138+仕入帳!G141+仕入帳!G144+仕入帳!G147+仕入帳!G150+仕入帳!G153+仕入帳!G156+仕入帳!G159+仕入帳!G162+仕入帳!G165+仕入帳!G168+仕入帳!G171+仕入帳!G174+仕入帳!G177+仕入帳!G180+仕入帳!G183+仕入帳!G186+仕入帳!G189+仕入帳!G192+仕入帳!G195+仕入帳!G198+仕入帳!G201+仕入帳!G204+仕入帳!G207+仕入帳!G210+仕入帳!G213+仕入帳!G216+仕入帳!G219+仕入帳!G222+仕入帳!G225+仕入帳!G228+仕入帳!G231+仕入帳!G234+仕入帳!G237+仕入帳!G240+仕入帳!G243+仕入帳!G246+仕入帳!G249+仕入帳!G252+仕入帳!G255+仕入帳!G258+仕入帳!G261+仕入帳!G264+仕入帳!G267+仕入帳!G270+仕入帳!G273+仕入帳!G276+仕入帳!G279+仕入帳!G282+仕入帳!G285+仕入帳!G288+仕入帳!G291+仕入帳!G294+仕入帳!G297+仕入帳!G300+仕入帳!G303+仕入帳!G306+仕入帳!G309+仕入帳!G312+仕入帳!G315+仕入帳!G318+仕入帳!G321+仕入帳!G324+仕入帳!G327 -> 0 | H3: =+H6+仕入帳!H9+仕入帳!H12+仕入帳!H15+仕入帳!H18+仕入帳!H21+仕入帳!H24+仕入帳!H27+仕入帳!H30+仕入帳!H33+仕入帳!H36+仕入帳!H39+仕入帳!H42+仕入帳!H45+仕入帳!H48+仕入帳!H51+仕入帳!H54+仕入帳!H57+仕入帳!H60+仕入帳!H63+仕入帳!H66+仕入帳!H69+仕入帳!H72+仕入帳!H75+仕入帳!H78+仕入帳!H81+仕入帳!H84+仕入帳!H87+仕入帳!H90+仕入帳!H93+仕入帳!H96+仕入帳!H99+仕入帳!H102+仕入帳!H105+仕入帳!H108+仕入帳!H111+仕入帳!H114+仕入帳!H117+仕入帳!H120+仕入帳!H123+仕入帳!H126+仕入帳!H129+仕入帳!H132+仕入帳!H135+仕入帳!H138+仕入帳!H141+仕入帳!H144+仕入帳!H147+仕入帳!H150+仕入帳!H153+仕入帳!H156+仕入帳!H159+仕入帳!H162+仕入帳!H165+仕入帳!H168+仕入帳!H171+仕入帳!H174+仕入帳!H177+仕入帳!H180+仕入帳!H183+仕入帳!H186+仕入帳!H189+仕入帳!H192+仕入帳!H195+仕入帳!H198+仕入帳!H201+仕入帳!H204+仕入帳!H207+仕入帳!H210+仕入帳!H213+仕入帳!H216+仕入帳!H219+仕入帳!H222+仕入帳!H225+仕入帳!H228+仕入帳!H231+仕入帳!H234+仕入帳!H237+仕入帳!H240+仕入帳!H243+仕入帳!H246+仕入帳!H249+仕入帳!H252+仕入帳!H255+仕入帳!H258+仕入帳!H261+仕入帳!H264+仕入帳!H267+仕入帳!H270+仕入帳!H273+仕入帳!H276+仕入帳!H279+仕入帳!H282+仕入帳!H285+仕入帳!H288+仕入帳!H291+仕入帳!H294+仕入帳!H297+仕入帳!H300+仕入帳!H303+仕入帳!H306+仕入帳!H309+仕入帳!H312+仕入帳!H315+仕入帳!H318+仕入帳!H321+仕入帳!H324+仕入帳!H327 -> 0 | I3: =+I6+仕入帳!I9+仕入帳!I12+仕入帳!I15+仕入帳!I18+仕入帳!I21+仕入帳!I24+仕入帳!I27+仕入帳!I30+仕入帳!I33+仕入帳!I36+仕入帳!I39+仕入帳!I42+仕入帳!I45+仕入帳!I48+仕入帳!I51+仕入帳!I54+仕入帳!I57+仕入帳!I60+仕入帳!I63+仕入帳!I66+仕入帳!I69+仕入帳!I72+仕入帳!I75+仕入帳!I78+仕入帳!I81+仕入帳!I84+仕入帳!I87+仕入帳!I90+仕入帳!I93+仕入帳!I96+仕入帳!I99+仕入帳!I102+仕入帳!I105+仕入帳!I108+仕入帳!I111+仕入帳!I114+仕入帳!I117+仕入帳!I120+仕入帳!I123+仕入帳!I126+仕入帳!I129+仕入帳!I132+仕入帳!I135+仕入帳!I138+仕入帳!I141+仕入帳!I144+仕入帳!I147+仕入帳!I150+仕入帳!I153+仕入帳!I156+仕入帳!I159+仕入帳!I162+仕入帳!I165+仕入帳!I168+仕入帳!I171+仕入帳!I174+仕入帳!I177+仕入帳!I180+仕入帳!I183+仕入帳!I186+仕入帳!I189+仕入帳!I192+仕入帳!I195+仕入帳!I198+仕入帳!I201+仕入帳!I204+仕入帳!I207+仕入帳!I210+仕入帳!I213+仕入帳!I216+仕入帳!I219+仕入帳!I222+仕入帳!I225+仕入帳!I228+仕入帳!I231+仕入帳!I234+仕入帳!I237+仕入帳!I240+仕入帳!I243+仕入帳!I246+仕入帳!I249+仕入帳!I252+仕入帳!I255+仕入帳!I258+仕入帳!I261+仕入帳!I264+仕入帳!I267+仕入帳!I270+仕入帳!I273+仕入帳!I276+仕入帳!I279+仕入帳!I282+仕入帳!I285+仕入帳!I288+仕入帳!I291+仕入帳!I294+仕入帳!I297+仕入帳!I300+仕入帳!I303+仕入帳!I306+仕入帳!I309+仕入帳!I312+仕入帳!I315+仕入帳!I318+仕入帳!I321+仕入帳!I324+仕入帳!I327 -> 0 | ... M3: =+M6+仕入帳!M9+仕入帳!M12+仕入帳!M15+仕入帳!M18+仕入帳!M21+仕入帳!M24+仕入帳!M27+仕入帳!M30+仕入帳!M33+仕入帳!M36+仕入帳!M39+仕入帳!M42+仕入帳!M45+仕入帳!M48+仕入帳!M51+仕入帳!M54+仕入帳!M57+仕入帳!M60+仕入帳!M63+仕入帳!M66+仕入帳!M69+仕入帳!M72+仕入帳!M75+仕入帳!M78+仕入帳!M81+仕入帳!M84+仕入帳!M87+仕入帳!M90+仕入帳!M93+仕入帳!M96+仕入帳!M99+仕入帳!M102+仕入帳!M105+仕入帳!M108+仕入帳!M111+仕入帳!M114+仕入帳!M117+仕入帳!M120+仕入帳!M123+仕入帳!M126+仕入帳!M129+仕入帳!M132+仕入帳!M135+仕入帳!M138+仕入帳!M141+仕入帳!M144+仕入帳!M147+仕入帳!M150+仕入帳!M153+仕入帳!M156+仕入帳!M159+仕入帳!M162+仕入帳!M165+仕入帳!M168+仕入帳!M171+仕入帳!M174+仕入帳!M177+仕入帳!M180+仕入帳!M183+仕入帳!M186+仕入帳!M189+仕入帳!M192+仕入帳!M195+仕入帳!M198+仕入帳!M201+仕入帳!M204+仕入帳!M207+仕入帳!M210+仕入帳!M213+仕入帳!M216+仕入帳!M219+仕入帳!M222+仕入帳!M225+仕入帳!M228+仕入帳!M231+仕入帳!M234+仕入帳!M237+仕入帳!M240+仕入帳!M243+仕入帳!M246+仕入帳!M249+仕入帳!M252+仕入帳!M255+仕入帳!M258+仕入帳!M261+仕入帳!M264+仕入帳!M267+仕入帳!M270+仕入帳!M273+仕入帳!M276+仕入帳!M279+仕入帳!M282+仕入帳!M285+仕入帳!M288+仕入帳!M291+仕入帳!M294+仕入帳!M297+仕入帳!M300+仕入帳!M303+仕入帳!M306+仕入帳!M309+仕入帳!M312+仕入帳!M315+仕入帳!M318+仕入帳!M321+仕入帳!M324+仕入帳!M327 -> 0
A4: =+A7+仕入帳!A10+仕入帳!A13+仕入帳!A16+仕入帳!A19+仕入帳!A22+仕入帳!A25+仕入帳!A28+仕入帳!A31+仕入帳!A34+仕入帳!A37+仕入帳!A40+仕入帳!A43+仕入帳!A46+仕入帳!A49+仕入帳!A52+仕入帳!A55+仕入帳!A58+仕入帳!A61+仕入帳!A64+仕入帳!A67+仕入帳!A70+仕入帳!A73+仕入帳!A76+仕入帳!A79+仕入帳!A82+仕入帳!A85+仕入帳!A88+仕入帳!A91+仕入帳!A94+仕入帳!A97+仕入帳!A100+仕入帳!A103+仕入帳!A106+仕入帳!A109+仕入帳!A112+仕入帳!A115+仕入帳!A118+仕入帳!A121+仕入帳!A124+仕入帳!A127+仕入帳!A130+仕入帳!A133+仕入帳!A136+仕入帳!A139+仕入帳!A142+仕入帳!A145+仕入帳!A148+仕入帳!A151+仕入帳!A154+仕入帳!A157+仕入帳!A160+仕入帳!A163+仕入帳!A166+仕入帳!A169+仕入帳!A172+仕入帳!A175+仕入帳!A178+仕入帳!A181+仕入帳!A184+仕入帳!A187+仕入帳!A190+仕入帳!A193+仕入帳!A196+仕入帳!A199+仕入帳!A202+仕入帳!A205+仕入帳!A208+仕入帳!A211+仕入帳!A214+仕入帳!A217+仕入帳!A220+仕入帳!A223+仕入帳!A226+仕入帳!A229+仕入帳!A232+仕入帳!A235+仕入帳!A238+仕入帳!A241+仕入帳!A244+仕入帳!A247+仕入帳!A250+仕入帳!A253+仕入帳!A256+仕入帳!A259+仕入帳!A262+仕入帳!A265+仕入帳!A268+仕入帳!A271+仕入帳!A274+仕入帳!A277+仕入帳!A280+仕入帳!A283+仕入帳!A286+仕入帳!A289+仕入帳!A292+仕入帳!A295+仕入帳!A298+仕入帳!A301+仕入帳!A304+仕入帳!A307+仕入帳!A310+仕入帳!A313+仕入帳!A316+仕入帳!A319+仕入帳!A322+仕入帳!A325+仕入帳!A328 -> 0 | B4: =+B7+仕入帳!B10+仕入帳!B13+仕入帳!B16+仕入帳!B19+仕入帳!B22+仕入帳!B25+仕入帳!B28+仕入帳!B31+仕入帳!B34+仕入帳!B37+仕入帳!B40+仕入帳!B43+仕入帳!B46+仕入帳!B49+仕入帳!B52+仕入帳!B55+仕入帳!B58+仕入帳!B61+仕入帳!B64+仕入帳!B67+仕入帳!B70+仕入帳!B73+仕入帳!B76+仕入帳!B79+仕入帳!B82+仕入帳!B85+仕入帳!B88+仕入帳!B91+仕入帳!B94+仕入帳!B97+仕入帳!B100+仕入帳!B103+仕入帳!B106+仕入帳!B109+仕入帳!B112+仕入帳!B115+仕入帳!B118+仕入帳!B121+仕入帳!B124+仕入帳!B127+仕入帳!B130+仕入帳!B133+仕入帳!B136+仕入帳!B139+仕入帳!B142+仕入帳!B145+仕入帳!B148+仕入帳!B151+仕入帳!B154+仕入帳!B157+仕入帳!B160+仕入帳!B163+仕入帳!B166+仕入帳!B169+仕入帳!B172+仕入帳!B175+仕入帳!B178+仕入帳!B181+仕入帳!B184+仕入帳!B187+仕入帳!B190+仕入帳!B193+仕入帳!B196+仕入帳!B199+仕入帳!B202+仕入帳!B205+仕入帳!B208+仕入帳!B211+仕入帳!B214+仕入帳!B217+仕入帳!B220+仕入帳!B223+仕入帳!B226+仕入帳!B229+仕入帳!B232+仕入帳!B235+仕入帳!B238+仕入帳!B241+仕入帳!B244+仕入帳!B247+仕入帳!B250+仕入帳!B253+仕入帳!B256+仕入帳!B259+仕入帳!B262+仕入帳!B265+仕入帳!B268+仕入帳!B271+仕入帳!B274+仕入帳!B277+仕入帳!B280+仕入帳!B283+仕入帳!B286+仕入帳!B289+仕入帳!B292+仕入帳!B295+仕入帳!B298+仕入帳!B301+仕入帳!B304+仕入帳!B307+仕入帳!B310+仕入帳!B313+仕入帳!B316+仕入帳!B319+仕入帳!B322+仕入帳!B325+仕入帳!B328 -> 0 | C4: =+C7+仕入帳!C10+仕入帳!C13+仕入帳!C16+仕入帳!C19+仕入帳!C22+仕入帳!C25+仕入帳!C28+仕入帳!C31+仕入帳!C34+仕入帳!C37+仕入帳!C40+仕入帳!C43+仕入帳!C46+仕入帳!C49+仕入帳!C52+仕入帳!C55+仕入帳!C58+仕入帳!C61+仕入帳!C64+仕入帳!C67+仕入帳!C70+仕入帳!C73+仕入帳!C76+仕入帳!C79+仕入帳!C82+仕入帳!C85+仕入帳!C88+仕入帳!C91+仕入帳!C94+仕入帳!C97+仕入帳!C100+仕入帳!C103+仕入帳!C106+仕入帳!C109+仕入帳!C112+仕入帳!C115+仕入帳!C118+仕入帳!C121+仕入帳!C124+仕入帳!C127+仕入帳!C130+仕入帳!C133+仕入帳!C136+仕入帳!C139+仕入帳!C142+仕入帳!C145+仕入帳!C148+仕入帳!C151+仕入帳!C154+仕入帳!C157+仕入帳!C160+仕入帳!C163+仕入帳!C166+仕入帳!C169+仕入帳!C172+仕入帳!C175+仕入帳!C178+仕入帳!C181+仕入帳!C184+仕入帳!C187+仕入帳!C190+仕入帳!C193+仕入帳!C196+仕入帳!C199+仕入帳!C202+仕入帳!C205+仕入帳!C208+仕入帳!C211+仕入帳!C214+仕入帳!C217+仕入帳!C220+仕入帳!C223+仕入帳!C226+仕入帳!C229+仕入帳!C232+仕入帳!C235+仕入帳!C238+仕入帳!C241+仕入帳!C244+仕入帳!C247+仕入帳!C250+仕入帳!C253+仕入帳!C256+仕入帳!C259+仕入帳!C262+仕入帳!C265+仕入帳!C268+仕入帳!C271+仕入帳!C274+仕入帳!C277+仕入帳!C280+仕入帳!C283+仕入帳!C286+仕入帳!C289+仕入帳!C292+仕入帳!C295+仕入帳!C298+仕入帳!C301+仕入帳!C304+仕入帳!C307+仕入帳!C310+仕入帳!C313+仕入帳!C316+仕入帳!C319+仕入帳!C322+仕入帳!C325+仕入帳!C328 -> 0 | D4: =+D7+仕入帳!D10+仕入帳!D13+仕入帳!D16+仕入帳!D19+仕入帳!D22+仕入帳!D25+仕入帳!D28+仕入帳!D31+仕入帳!D34+仕入帳!D37+仕入帳!D40+仕入帳!D43+仕入帳!D46+仕入帳!D49+仕入帳!D52+仕入帳!D55+仕入帳!D58+仕入帳!D61+仕入帳!D64+仕入帳!D67+仕入帳!D70+仕入帳!D73+仕入帳!D76+仕入帳!D79+仕入帳!D82+仕入帳!D85+仕入帳!D88+仕入帳!D91+仕入帳!D94+仕入帳!D97+仕入帳!D100+仕入帳!D103+仕入帳!D106+仕入帳!D109+仕入帳!D112+仕入帳!D115+仕入帳!D118+仕入帳!D121+仕入帳!D124+仕入帳!D127+仕入帳!D130+仕入帳!D133+仕入帳!D136+仕入帳!D139+仕入帳!D142+仕入帳!D145+仕入帳!D148+仕入帳!D151+仕入帳!D154+仕入帳!D157+仕入帳!D160+仕入帳!D163+仕入帳!D166+仕入帳!D169+仕入帳!D172+仕入帳!D175+仕入帳!D178+仕入帳!D181+仕入帳!D184+仕入帳!D187+仕入帳!D190+仕入帳!D193+仕入帳!D196+仕入帳!D199+仕入帳!D202+仕入帳!D205+仕入帳!D208+仕入帳!D211+仕入帳!D214+仕入帳!D217+仕入帳!D220+仕入帳!D223+仕入帳!D226+仕入帳!D229+仕入帳!D232+仕入帳!D235+仕入帳!D238+仕入帳!D241+仕入帳!D244+仕入帳!D247+仕入帳!D250+仕入帳!D253+仕入帳!D256+仕入帳!D259+仕入帳!D262+仕入帳!D265+仕入帳!D268+仕入帳!D271+仕入帳!D274+仕入帳!D277+仕入帳!D280+仕入帳!D283+仕入帳!D286+仕入帳!D289+仕入帳!D292+仕入帳!D295+仕入帳!D298+仕入帳!D301+仕入帳!D304+仕入帳!D307+仕入帳!D310+仕入帳!D313+仕入帳!D316+仕入帳!D319+仕入帳!D322+仕入帳!D325+仕入帳!D328 -> 0 | E4: =+E7+仕入帳!E10+仕入帳!E13+仕入帳!E16+仕入帳!E19+仕入帳!E22+仕入帳!E25+仕入帳!E28+仕入帳!E31+仕入帳!E34+仕入帳!E37+仕入帳!E40+仕入帳!E43+仕入帳!E46+仕入帳!E49+仕入帳!E52+仕入帳!E55+仕入帳!E58+仕入帳!E61+仕入帳!E64+仕入帳!E67+仕入帳!E70+仕入帳!E73+仕入帳!E76+仕入帳!E79+仕入帳!E82+仕入帳!E85+仕入帳!E88+仕入帳!E91+仕入帳!E94+仕入帳!E97+仕入帳!E100+仕入帳!E103+仕入帳!E106+仕入帳!E109+仕入帳!E112+仕入帳!E115+仕入帳!E118+仕入帳!E121+仕入帳!E124+仕入帳!E127+仕入帳!E130+仕入帳!E133+仕入帳!E136+仕入帳!E139+仕入帳!E142+仕入帳!E145+仕入帳!E148+仕入帳!E151+仕入帳!E154+仕入帳!E157+仕入帳!E160+仕入帳!E163+仕入帳!E166+仕入帳!E169+仕入帳!E172+仕入帳!E175+仕入帳!E178+仕入帳!E181+仕入帳!E184+仕入帳!E187+仕入帳!E190+仕入帳!E193+仕入帳!E196+仕入帳!E199+仕入帳!E202+仕入帳!E205+仕入帳!E208+仕入帳!E211+仕入帳!E214+仕入帳!E217+仕入帳!E220+仕入帳!E223+仕入帳!E226+仕入帳!E229+仕入帳!E232+仕入帳!E235+仕入帳!E238+仕入帳!E241+仕入帳!E244+仕入帳!E247+仕入帳!E250+仕入帳!E253+仕入帳!E256+仕入帳!E259+仕入帳!E262+仕入帳!E265+仕入帳!E268+仕入帳!E271+仕入帳!E274+仕入帳!E277+仕入帳!E280+仕入帳!E283+仕入帳!E286+仕入帳!E289+仕入帳!E292+仕入帳!E295+仕入帳!E298+仕入帳!E301+仕入帳!E304+仕入帳!E307+仕入帳!E310+仕入帳!E313+仕入帳!E316+仕入帳!E319+仕入帳!E322+仕入帳!E325+仕入帳!E328 -> 0 | F4: =+F7+仕入帳!F10+仕入帳!F13+仕入帳!F16+仕入帳!F19+仕入帳!F22+仕入帳!F25+仕入帳!F28+仕入帳!F31+仕入帳!F34+仕入帳!F37+仕入帳!F40+仕入帳!F43+仕入帳!F46+仕入帳!F49+仕入帳!F52+仕入帳!F55+仕入帳!F58+仕入帳!F61+仕入帳!F64+仕入帳!F67+仕入帳!F70+仕入帳!F73+仕入帳!F76+仕入帳!F79+仕入帳!F82+仕入帳!F85+仕入帳!F88+仕入帳!F91+仕入帳!F94+仕入帳!F97+仕入帳!F100+仕入帳!F103+仕入帳!F106+仕入帳!F109+仕入帳!F112+仕入帳!F115+仕入帳!F118+仕入帳!F121+仕入帳!F124+仕入帳!F127+仕入帳!F130+仕入帳!F133+仕入帳!F136+仕入帳!F139+仕入帳!F142+仕入帳!F145+仕入帳!F148+仕入帳!F151+仕入帳!F154+仕入帳!F157+仕入帳!F160+仕入帳!F163+仕入帳!F166+仕入帳!F169+仕入帳!F172+仕入帳!F175+仕入帳!F178+仕入帳!F181+仕入帳!F184+仕入帳!F187+仕入帳!F190+仕入帳!F193+仕入帳!F196+仕入帳!F199+仕入帳!F202+仕入帳!F205+仕入帳!F208+仕入帳!F211+仕入帳!F214+仕入帳!F217+仕入帳!F220+仕入帳!F223+仕入帳!F226+仕入帳!F229+仕入帳!F232+仕入帳!F235+仕入帳!F238+仕入帳!F241+仕入帳!F244+仕入帳!F247+仕入帳!F250+仕入帳!F253+仕入帳!F256+仕入帳!F259+仕入帳!F262+仕入帳!F265+仕入帳!F268+仕入帳!F271+仕入帳!F274+仕入帳!F277+仕入帳!F280+仕入帳!F283+仕入帳!F286+仕入帳!F289+仕入帳!F292+仕入帳!F295+仕入帳!F298+仕入帳!F301+仕入帳!F304+仕入帳!F307+仕入帳!F310+仕入帳!F313+仕入帳!F316+仕入帳!F319+仕入帳!F322+仕入帳!F325+仕入帳!F328 -> 0 | G4: =+G7+仕入帳!G10+仕入帳!G13+仕入帳!G16+仕入帳!G19+仕入帳!G22+仕入帳!G25+仕入帳!G28+仕入帳!G31+仕入帳!G34+仕入帳!G37+仕入帳!G40+仕入帳!G43+仕入帳!G46+仕入帳!G49+仕入帳!G52+仕入帳!G55+仕入帳!G58+仕入帳!G61+仕入帳!G64+仕入帳!G67+仕入帳!G70+仕入帳!G73+仕入帳!G76+仕入帳!G79+仕入帳!G82+仕入帳!G85+仕入帳!G88+仕入帳!G91+仕入帳!G94+仕入帳!G97+仕入帳!G100+仕入帳!G103+仕入帳!G106+仕入帳!G109+仕入帳!G112+仕入帳!G115+仕入帳!G118+仕入帳!G121+仕入帳!G124+仕入帳!G127+仕入帳!G130+仕入帳!G133+仕入帳!G136+仕入帳!G139+仕入帳!G142+仕入帳!G145+仕入帳!G148+仕入帳!G151+仕入帳!G154+仕入帳!G157+仕入帳!G160+仕入帳!G163+仕入帳!G166+仕入帳!G169+仕入帳!G172+仕入帳!G175+仕入帳!G178+仕入帳!G181+仕入帳!G184+仕入帳!G187+仕入帳!G190+仕入帳!G193+仕入帳!G196+仕入帳!G199+仕入帳!G202+仕入帳!G205+仕入帳!G208+仕入帳!G211+仕入帳!G214+仕入帳!G217+仕入帳!G220+仕入帳!G223+仕入帳!G226+仕入帳!G229+仕入帳!G232+仕入帳!G235+仕入帳!G238+仕入帳!G241+仕入帳!G244+仕入帳!G247+仕入帳!G250+仕入帳!G253+仕入帳!G256+仕入帳!G259+仕入帳!G262+仕入帳!G265+仕入帳!G268+仕入帳!G271+仕入帳!G274+仕入帳!G277+仕入帳!G280+仕入帳!G283+仕入帳!G286+仕入帳!G289+仕入帳!G292+仕入帳!G295+仕入帳!G298+仕入帳!G301+仕入帳!G304+仕入帳!G307+仕入帳!G310+仕入帳!G313+仕入帳!G316+仕入帳!G319+仕入帳!G322+仕入帳!G325+仕入帳!G328 -> 0 | H4: =+H7+仕入帳!H10+仕入帳!H13+仕入帳!H16+仕入帳!H19+仕入帳!H22+仕入帳!H25+仕入帳!H28+仕入帳!H31+仕入帳!H34+仕入帳!H37+仕入帳!H40+仕入帳!H43+仕入帳!H46+仕入帳!H49+仕入帳!H52+仕入帳!H55+仕入帳!H58+仕入帳!H61+仕入帳!H64+仕入帳!H67+仕入帳!H70+仕入帳!H73+仕入帳!H76+仕入帳!H79+仕入帳!H82+仕入帳!H85+仕入帳!H88+仕入帳!H91+仕入帳!H94+仕入帳!H97+仕入帳!H100+仕入帳!H103+仕入帳!H106+仕入帳!H109+仕入帳!H112+仕入帳!H115+仕入帳!H118+仕入帳!H121+仕入帳!H124+仕入帳!H127+仕入帳!H130+仕入帳!H133+仕入帳!H136+仕入帳!H139+仕入帳!H142+仕入帳!H145+仕入帳!H148+仕入帳!H151+仕入帳!H154+仕入帳!H157+仕入帳!H160+仕入帳!H163+仕入帳!H166+仕入帳!H169+仕入帳!H172+仕入帳!H175+仕入帳!H178+仕入帳!H181+仕入帳!H184+仕入帳!H187+仕入帳!H190+仕入帳!H193+仕入帳!H196+仕入帳!H199+仕入帳!H202+仕入帳!H205+仕入帳!H208+仕入帳!H211+仕入帳!H214+仕入帳!H217+仕入帳!H220+仕入帳!H223+仕入帳!H226+仕入帳!H229+仕入帳!H232+仕入帳!H235+仕入帳!H238+仕入帳!H241+仕入帳!H244+仕入帳!H247+仕入帳!H250+仕入帳!H253+仕入帳!H256+仕入帳!H259+仕入帳!H262+仕入帳!H265+仕入帳!H268+仕入帳!H271+仕入帳!H274+仕入帳!H277+仕入帳!H280+仕入帳!H283+仕入帳!H286+仕入帳!H289+仕入帳!H292+仕入帳!H295+仕入帳!H298+仕入帳!H301+仕入帳!H304+仕入帳!H307+仕入帳!H310+仕入帳!H313+仕入帳!H316+仕入帳!H319+仕入帳!H322+仕入帳!H325+仕入帳!H328 -> 0 | ... M4: =+M7+仕入帳!M10+仕入帳!M13+仕入帳!M16+仕入帳!M19+仕入帳!M22+仕入帳!M25+仕入帳!M28+仕入帳!M31+仕入帳!M34+仕入帳!M37+仕入帳!M40+仕入帳!M43+仕入帳!M46+仕入帳!M49+仕入帳!M52+仕入帳!M55+仕入帳!M58+仕入帳!M61+仕入帳!M64+仕入帳!M67+仕入帳!M70+仕入帳!M73+仕入帳!M76+仕入帳!M79+仕入帳!M82+仕入帳!M85+仕入帳!M88+仕入帳!M91+仕入帳!M94+仕入帳!M97+仕入帳!M100+仕入帳!M103+仕入帳!M106+仕入帳!M109+仕入帳!M112+仕入帳!M115+仕入帳!M118+仕入帳!M121+仕入帳!M124+仕入帳!M127+仕入帳!M130+仕入帳!M133+仕入帳!M136+仕入帳!M139+仕入帳!M142+仕入帳!M145+仕入帳!M148+仕入帳!M151+仕入帳!M154+仕入帳!M157+仕入帳!M160+仕入帳!M163+仕入帳!M166+仕入帳!M169+仕入帳!M172+仕入帳!M175+仕入帳!M178+仕入帳!M181+仕入帳!M184+仕入帳!M187+仕入帳!M190+仕入帳!M193+仕入帳!M196+仕入帳!M199+仕入帳!M202+仕入帳!M205+仕入帳!M208+仕入帳!M211+仕入帳!M214+仕入帳!M217+仕入帳!M220+仕入帳!M223+仕入帳!M226+仕入帳!M229+仕入帳!M232+仕入帳!M235+仕入帳!M238+仕入帳!M241+仕入帳!M244+仕入帳!M247+仕入帳!M250+仕入帳!M253+仕入帳!M256+仕入帳!M259+仕入帳!M262+仕入帳!M265+仕入帳!M268+仕入帳!M271+仕入帳!M274+仕入帳!M277+仕入帳!M280+仕入帳!M283+仕入帳!M286+仕入帳!M289+仕入帳!M292+仕入帳!M295+仕入帳!M298+仕入帳!M301+仕入帳!M304+仕入帳!M307+仕入帳!M310+仕入帳!M313+仕入帳!M316+仕入帳!M319+仕入帳!M322+仕入帳!M325+仕入帳!M328 -> 0
B5: =+仕入帳!B8+仕入帳!B11+仕入帳!B14+仕入帳!B17+仕入帳!B20+仕入帳!B23+仕入帳!B26+仕入帳!B29+仕入帳!B32+仕入帳!B35+仕入帳!B38+仕入帳!B41+仕入帳!B44+仕入帳!B47+仕入帳!B50+仕入帳!B53+仕入帳!B56+仕入帳!B59+仕入帳!B62+仕入帳!B65+仕入帳!B68+仕入帳!B71+仕入帳!B74+仕入帳!B77+仕入帳!B80+仕入帳!B83+仕入帳!B86+仕入帳!B89+仕入帳!B92+仕入帳!B95+仕入帳!B98+仕入帳!B101+仕入帳!B104+仕入帳!B107+仕入帳!B110+仕入帳!B113+仕入帳!B116+仕入帳!B119+仕入帳!B122+仕入帳!B125+仕入帳!B128+仕入帳!B131+仕入帳!B134+仕入帳!B137+仕入帳!B140+仕入帳!B143+仕入帳!B146+仕入帳!B149+仕入帳!B152+仕入帳!B155+仕入帳!B158+仕入帳!B161+仕入帳!B164+仕入帳!B167+仕入帳!B170+仕入帳!B173+仕入帳!B176+仕入帳!B179+仕入帳!B182+仕入帳!B185+仕入帳!B188+仕入帳!B191+仕入帳!B194+仕入帳!B197+仕入帳!B200+仕入帳!B203+仕入帳!B206+仕入帳!B209+仕入帳!B212+仕入帳!B215+仕入帳!B218+仕入帳!B221+仕入帳!B224+仕入帳!B227+仕入帳!B230+仕入帳!B233+仕入帳!B236+仕入帳!B239+仕入帳!B242+仕入帳!B245+仕入帳!B248+仕入帳!B251+仕入帳!B254+仕入帳!B257+仕入帳!B260+仕入帳!B263+仕入帳!B266+仕入帳!B269+仕入帳!B272+仕入帳!B275+仕入帳!B278+仕入帳!B281+仕入帳!B284+仕入帳!B287+仕入帳!B290+仕入帳!B293+仕入帳!B296+仕入帳!B299+仕入帳!B302+仕入帳!B305+仕入帳!B308+仕入帳!B311+仕入帳!B314+仕入帳!B317+仕入帳!B320+仕入帳!B323 -> 0 | C5: =+仕入帳!C8+仕入帳!C11+仕入帳!C14+仕入帳!C17+仕入帳!C20+仕入帳!C23+仕入帳!C26+仕入帳!C29+仕入帳!C32+仕入帳!C35+仕入帳!C38+仕入帳!C41+仕入帳!C44+仕入帳!C47+仕入帳!C50+仕入帳!C53+仕入帳!C56+仕入帳!C59+仕入帳!C62+仕入帳!C65+仕入帳!C68+仕入帳!C71+仕入帳!C74+仕入帳!C77+仕入帳!C80+仕入帳!C83+仕入帳!C86+仕入帳!C89+仕入帳!C92+仕入帳!C95+仕入帳!C98+仕入帳!C101+仕入帳!C104+仕入帳!C107+仕入帳!C110+仕入帳!C113+仕入帳!C116+仕入帳!C119+仕入帳!C122+仕入帳!C125+仕入帳!C128+仕入帳!C131+仕入帳!C134+仕入帳!C137+仕入帳!C140+仕入帳!C143+仕入帳!C146+仕入帳!C149+仕入帳!C152+仕入帳!C155+仕入帳!C158+仕入帳!C161+仕入帳!C164+仕入帳!C167+仕入帳!C170+仕入帳!C173+仕入帳!C176+仕入帳!C179+仕入帳!C182+仕入帳!C185+仕入帳!C188+仕入帳!C191+仕入帳!C194+仕入帳!C197+仕入帳!C200+仕入帳!C203+仕入帳!C206+仕入帳!C209+仕入帳!C212+仕入帳!C215+仕入帳!C218+仕入帳!C221+仕入帳!C224+仕入帳!C227+仕入帳!C230+仕入帳!C233+仕入帳!C236+仕入帳!C239+仕入帳!C242+仕入帳!C245+仕入帳!C248+仕入帳!C251+仕入帳!C254+仕入帳!C257+仕入帳!C260+仕入帳!C263+仕入帳!C266+仕入帳!C269+仕入帳!C272+仕入帳!C275+仕入帳!C278+仕入帳!C281+仕入帳!C284+仕入帳!C287+仕入帳!C290+仕入帳!C293+仕入帳!C296+仕入帳!C299+仕入帳!C302+仕入帳!C305+仕入帳!C308+仕入帳!C311+仕入帳!C314+仕入帳!C317+仕入帳!C320+仕入帳!C323 -> 0 | D5: =+仕入帳!D8+仕入帳!D11+仕入帳!D14+仕入帳!D17+仕入帳!D20+仕入帳!D23+仕入帳!D26+仕入帳!D29+仕入帳!D32+仕入帳!D35+仕入帳!D38+仕入帳!D41+仕入帳!D44+仕入帳!D47+仕入帳!D50+仕入帳!D53+仕入帳!D56+仕入帳!D59+仕入帳!D62+仕入帳!D65+仕入帳!D68+仕入帳!D71+仕入帳!D74+仕入帳!D77+仕入帳!D80+仕入帳!D83+仕入帳!D86+仕入帳!D89+仕入帳!D92+仕入帳!D95+仕入帳!D98+仕入帳!D101+仕入帳!D104+仕入帳!D107+仕入帳!D110+仕入帳!D113+仕入帳!D116+仕入帳!D119+仕入帳!D122+仕入帳!D125+仕入帳!D128+仕入帳!D131+仕入帳!D134+仕入帳!D137+仕入帳!D140+仕入帳!D143+仕入帳!D146+仕入帳!D149+仕入帳!D152+仕入帳!D155+仕入帳!D158+仕入帳!D161+仕入帳!D164+仕入帳!D167+仕入帳!D170+仕入帳!D173+仕入帳!D176+仕入帳!D179+仕入帳!D182+仕入帳!D185+仕入帳!D188+仕入帳!D191+仕入帳!D194+仕入帳!D197+仕入帳!D200+仕入帳!D203+仕入帳!D206+仕入帳!D209+仕入帳!D212+仕入帳!D215+仕入帳!D218+仕入帳!D221+仕入帳!D224+仕入帳!D227+仕入帳!D230+仕入帳!D233+仕入帳!D236+仕入帳!D239+仕入帳!D242+仕入帳!D245+仕入帳!D248+仕入帳!D251+仕入帳!D254+仕入帳!D257+仕入帳!D260+仕入帳!D263+仕入帳!D266+仕入帳!D269+仕入帳!D272+仕入帳!D275+仕入帳!D278+仕入帳!D281+仕入帳!D284+仕入帳!D287+仕入帳!D290+仕入帳!D293+仕入帳!D296+仕入帳!D299+仕入帳!D302+仕入帳!D305+仕入帳!D308+仕入帳!D311+仕入帳!D314+仕入帳!D317+仕入帳!D320+仕入帳!D323 -> 0 | E5: =+仕入帳!E8+仕入帳!E11+仕入帳!E14+仕入帳!E17+仕入帳!E20+仕入帳!E23+仕入帳!E26+仕入帳!E29+仕入帳!E32+仕入帳!E35+仕入帳!E38+仕入帳!E41+仕入帳!E44+仕入帳!E47+仕入帳!E50+仕入帳!E53+仕入帳!E56+仕入帳!E59+仕入帳!E62+仕入帳!E65+仕入帳!E68+仕入帳!E71+仕入帳!E74+仕入帳!E77+仕入帳!E80+仕入帳!E83+仕入帳!E86+仕入帳!E89+仕入帳!E92+仕入帳!E95+仕入帳!E98+仕入帳!E101+仕入帳!E104+仕入帳!E107+仕入帳!E110+仕入帳!E113+仕入帳!E116+仕入帳!E119+仕入帳!E122+仕入帳!E125+仕入帳!E128+仕入帳!E131+仕入帳!E134+仕入帳!E137+仕入帳!E140+仕入帳!E143+仕入帳!E146+仕入帳!E149+仕入帳!E152+仕入帳!E155+仕入帳!E158+仕入帳!E161+仕入帳!E164+仕入帳!E167+仕入帳!E170+仕入帳!E173+仕入帳!E176+仕入帳!E179+仕入帳!E182+仕入帳!E185+仕入帳!E188+仕入帳!E191+仕入帳!E194+仕入帳!E197+仕入帳!E200+仕入帳!E203+仕入帳!E206+仕入帳!E209+仕入帳!E212+仕入帳!E215+仕入帳!E218+仕入帳!E221+仕入帳!E224+仕入帳!E227+仕入帳!E230+仕入帳!E233+仕入帳!E236+仕入帳!E239+仕入帳!E242+仕入帳!E245+仕入帳!E248+仕入帳!E251+仕入帳!E254+仕入帳!E257+仕入帳!E260+仕入帳!E263+仕入帳!E266+仕入帳!E269+仕入帳!E272+仕入帳!E275+仕入帳!E278+仕入帳!E281+仕入帳!E284+仕入帳!E287+仕入帳!E290+仕入帳!E293+仕入帳!E296+仕入帳!E299+仕入帳!E302+仕入帳!E305+仕入帳!E308+仕入帳!E311+仕入帳!E314+仕入帳!E317+仕入帳!E320+仕入帳!E323 -> 0 | F5: =+仕入帳!F8+仕入帳!F11+仕入帳!F14+仕入帳!F17+仕入帳!F20+仕入帳!F23+仕入帳!F26+仕入帳!F29+仕入帳!F32+仕入帳!F35+仕入帳!F38+仕入帳!F41+仕入帳!F44+仕入帳!F47+仕入帳!F50+仕入帳!F53+仕入帳!F56+仕入帳!F59+仕入帳!F62+仕入帳!F65+仕入帳!F68+仕入帳!F71+仕入帳!F74+仕入帳!F77+仕入帳!F80+仕入帳!F83+仕入帳!F86+仕入帳!F89+仕入帳!F92+仕入帳!F95+仕入帳!F98+仕入帳!F101+仕入帳!F104+仕入帳!F107+仕入帳!F110+仕入帳!F113+仕入帳!F116+仕入帳!F119+仕入帳!F122+仕入帳!F125+仕入帳!F128+仕入帳!F131+仕入帳!F134+仕入帳!F137+仕入帳!F140+仕入帳!F143+仕入帳!F146+仕入帳!F149+仕入帳!F152+仕入帳!F155+仕入帳!F158+仕入帳!F161+仕入帳!F164+仕入帳!F167+仕入帳!F170+仕入帳!F173+仕入帳!F176+仕入帳!F179+仕入帳!F182+仕入帳!F185+仕入帳!F188+仕入帳!F191+仕入帳!F194+仕入帳!F197+仕入帳!F200+仕入帳!F203+仕入帳!F206+仕入帳!F209+仕入帳!F212+仕入帳!F215+仕入帳!F218+仕入帳!F221+仕入帳!F224+仕入帳!F227+仕入帳!F230+仕入帳!F233+仕入帳!F236+仕入帳!F239+仕入帳!F242+仕入帳!F245+仕入帳!F248+仕入帳!F251+仕入帳!F254+仕入帳!F257+仕入帳!F260+仕入帳!F263+仕入帳!F266+仕入帳!F269+仕入帳!F272+仕入帳!F275+仕入帳!F278+仕入帳!F281+仕入帳!F284+仕入帳!F287+仕入帳!F290+仕入帳!F293+仕入帳!F296+仕入帳!F299+仕入帳!F302+仕入帳!F305+仕入帳!F308+仕入帳!F311+仕入帳!F314+仕入帳!F317+仕入帳!F320+仕入帳!F323 -> 0 | G5: =+仕入帳!G8+仕入帳!G11+仕入帳!G14+仕入帳!G17+仕入帳!G20+仕入帳!G23+仕入帳!G26+仕入帳!G29+仕入帳!G32+仕入帳!G35+仕入帳!G38+仕入帳!G41+仕入帳!G44+仕入帳!G47+仕入帳!G50+仕入帳!G53+仕入帳!G56+仕入帳!G59+仕入帳!G62+仕入帳!G65+仕入帳!G68+仕入帳!G71+仕入帳!G74+仕入帳!G77+仕入帳!G80+仕入帳!G83+仕入帳!G86+仕入帳!G89+仕入帳!G92+仕入帳!G95+仕入帳!G98+仕入帳!G101+仕入帳!G104+仕入帳!G107+仕入帳!G110+仕入帳!G113+仕入帳!G116+仕入帳!G119+仕入帳!G122+仕入帳!G125+仕入帳!G128+仕入帳!G131+仕入帳!G134+仕入帳!G137+仕入帳!G140+仕入帳!G143+仕入帳!G146+仕入帳!G149+仕入帳!G152+仕入帳!G155+仕入帳!G158+仕入帳!G161+仕入帳!G164+仕入帳!G167+仕入帳!G170+仕入帳!G173+仕入帳!G176+仕入帳!G179+仕入帳!G182+仕入帳!G185+仕入帳!G188+仕入帳!G191+仕入帳!G194+仕入帳!G197+仕入帳!G200+仕入帳!G203+仕入帳!G206+仕入帳!G209+仕入帳!G212+仕入帳!G215+仕入帳!G218+仕入帳!G221+仕入帳!G224+仕入帳!G227+仕入帳!G230+仕入帳!G233+仕入帳!G236+仕入帳!G239+仕入帳!G242+仕入帳!G245+仕入帳!G248+仕入帳!G251+仕入帳!G254+仕入帳!G257+仕入帳!G260+仕入帳!G263+仕入帳!G266+仕入帳!G269+仕入帳!G272+仕入帳!G275+仕入帳!G278+仕入帳!G281+仕入帳!G284+仕入帳!G287+仕入帳!G290+仕入帳!G293+仕入帳!G296+仕入帳!G299+仕入帳!G302+仕入帳!G305+仕入帳!G308+仕入帳!G311+仕入帳!G314+仕入帳!G317+仕入帳!G320+仕入帳!G323 -> 0 | H5: =+仕入帳!H8+仕入帳!H11+仕入帳!H14+仕入帳!H17+仕入帳!H20+仕入帳!H23+仕入帳!H26+仕入帳!H29+仕入帳!H32+仕入帳!H35+仕入帳!H38+仕入帳!H41+仕入帳!H44+仕入帳!H47+仕入帳!H50+仕入帳!H53+仕入帳!H56+仕入帳!H59+仕入帳!H62+仕入帳!H65+仕入帳!H68+仕入帳!H71+仕入帳!H74+仕入帳!H77+仕入帳!H80+仕入帳!H83+仕入帳!H86+仕入帳!H89+仕入帳!H92+仕入帳!H95+仕入帳!H98+仕入帳!H101+仕入帳!H104+仕入帳!H107+仕入帳!H110+仕入帳!H113+仕入帳!H116+仕入帳!H119+仕入帳!H122+仕入帳!H125+仕入帳!H128+仕入帳!H131+仕入帳!H134+仕入帳!H137+仕入帳!H140+仕入帳!H143+仕入帳!H146+仕入帳!H149+仕入帳!H152+仕入帳!H155+仕入帳!H158+仕入帳!H161+仕入帳!H164+仕入帳!H167+仕入帳!H170+仕入帳!H173+仕入帳!H176+仕入帳!H179+仕入帳!H182+仕入帳!H185+仕入帳!H188+仕入帳!H191+仕入帳!H194+仕入帳!H197+仕入帳!H200+仕入帳!H203+仕入帳!H206+仕入帳!H209+仕入帳!H212+仕入帳!H215+仕入帳!H218+仕入帳!H221+仕入帳!H224+仕入帳!H227+仕入帳!H230+仕入帳!H233+仕入帳!H236+仕入帳!H239+仕入帳!H242+仕入帳!H245+仕入帳!H248+仕入帳!H251+仕入帳!H254+仕入帳!H257+仕入帳!H260+仕入帳!H263+仕入帳!H266+仕入帳!H269+仕入帳!H272+仕入帳!H275+仕入帳!H278+仕入帳!H281+仕入帳!H284+仕入帳!H287+仕入帳!H290+仕入帳!H293+仕入帳!H296+仕入帳!H299+仕入帳!H302+仕入帳!H305+仕入帳!H308+仕入帳!H311+仕入帳!H314+仕入帳!H317+仕入帳!H320+仕入帳!H323 -> 0 | I5: =+仕入帳!I8+仕入帳!I11+仕入帳!I14+仕入帳!I17+仕入帳!I20+仕入帳!I23+仕入帳!I26+仕入帳!I29+仕入帳!I32+仕入帳!I35+仕入帳!I38+仕入帳!I41+仕入帳!I44+仕入帳!I47+仕入帳!I50+仕入帳!I53+仕入帳!I56+仕入帳!I59+仕入帳!I62+仕入帳!I65+仕入帳!I68+仕入帳!I71+仕入帳!I74+仕入帳!I77+仕入帳!I80+仕入帳!I83+仕入帳!I86+仕入帳!I89+仕入帳!I92+仕入帳!I95+仕入帳!I98+仕入帳!I101+仕入帳!I104+仕入帳!I107+仕入帳!I110+仕入帳!I113+仕入帳!I116+仕入帳!I119+仕入帳!I122+仕入帳!I125+仕入帳!I128+仕入帳!I131+仕入帳!I134+仕入帳!I137+仕入帳!I140+仕入帳!I143+仕入帳!I146+仕入帳!I149+仕入帳!I152+仕入帳!I155+仕入帳!I158+仕入帳!I161+仕入帳!I164+仕入帳!I167+仕入帳!I170+仕入帳!I173+仕入帳!I176+仕入帳!I179+仕入帳!I182+仕入帳!I185+仕入帳!I188+仕入帳!I191+仕入帳!I194+仕入帳!I197+仕入帳!I200+仕入帳!I203+仕入帳!I206+仕入帳!I209+仕入帳!I212+仕入帳!I215+仕入帳!I218+仕入帳!I221+仕入帳!I224+仕入帳!I227+仕入帳!I230+仕入帳!I233+仕入帳!I236+仕入帳!I239+仕入帳!I242+仕入帳!I245+仕入帳!I248+仕入帳!I251+仕入帳!I254+仕入帳!I257+仕入帳!I260+仕入帳!I263+仕入帳!I266+仕入帳!I269+仕入帳!I272+仕入帳!I275+仕入帳!I278+仕入帳!I281+仕入帳!I284+仕入帳!I287+仕入帳!I290+仕入帳!I293+仕入帳!I296+仕入帳!I299+仕入帳!I302+仕入帳!I305+仕入帳!I308+仕入帳!I311+仕入帳!I314+仕入帳!I317+仕入帳!I320+仕入帳!I323 -> 0 | ... M5: =+仕入帳!M8+仕入帳!M11+仕入帳!M14+仕入帳!M17+仕入帳!M20+仕入帳!M23+仕入帳!M26+仕入帳!M29+仕入帳!M32+仕入帳!M35+仕入帳!M38+仕入帳!M41+仕入帳!M44+仕入帳!M47+仕入帳!M50+仕入帳!M53+仕入帳!M56+仕入帳!M59+仕入帳!M62+仕入帳!M65+仕入帳!M68+仕入帳!M71+仕入帳!M74+仕入帳!M77+仕入帳!M80+仕入帳!M83+仕入帳!M86+仕入帳!M89+仕入帳!M92+仕入帳!M95+仕入帳!M98+仕入帳!M101+仕入帳!M104+仕入帳!M107+仕入帳!M110+仕入帳!M113+仕入帳!M116+仕入帳!M119+仕入帳!M122+仕入帳!M125+仕入帳!M128+仕入帳!M131+仕入帳!M134+仕入帳!M137+仕入帳!M140+仕入帳!M143+仕入帳!M146+仕入帳!M149+仕入帳!M152+仕入帳!M155+仕入帳!M158+仕入帳!M161+仕入帳!M164+仕入帳!M167+仕入帳!M170+仕入帳!M173+仕入帳!M176+仕入帳!M179+仕入帳!M182+仕入帳!M185+仕入帳!M188+仕入帳!M191+仕入帳!M194+仕入帳!M197+仕入帳!M200+仕入帳!M203+仕入帳!M206+仕入帳!M209+仕入帳!M212+仕入帳!M215+仕入帳!M218+仕入帳!M221+仕入帳!M224+仕入帳!M227+仕入帳!M230+仕入帳!M233+仕入帳!M236+仕入帳!M239+仕入帳!M242+仕入帳!M245+仕入帳!M248+仕入帳!M251+仕入帳!M254+仕入帳!M257+仕入帳!M260+仕入帳!M263+仕入帳!M266+仕入帳!M269+仕入帳!M272+仕入帳!M275+仕入帳!M278+仕入帳!M281+仕入帳!M284+仕入帳!M287+仕入帳!M290+仕入帳!M293+仕入帳!M296+仕入帳!M299+仕入帳!M302+仕入帳!M305+仕入帳!M308+仕入帳!M311+仕入帳!M314+仕入帳!M317+仕入帳!M320+仕入帳!M323 -> 0 | N5: =SUM(B5:M5) -> 0
B6: =+仕入帳!B9+仕入帳!B12+仕入帳!B15+仕入帳!B18+仕入帳!B21+仕入帳!B24+仕入帳!B27+仕入帳!B30+仕入帳!B33+仕入帳!B36+仕入帳!B39+仕入帳!B42+仕入帳!B45+仕入帳!B48+仕入帳!B51+仕入帳!B54+仕入帳!B57+仕入帳!B60+仕入帳!B63+仕入帳!B66+仕入帳!B69+仕入帳!B72+仕入帳!B75+仕入帳!B78+仕入帳!B81+仕入帳!B84+仕入帳!B87+仕入帳!B90+仕入帳!B93+仕入帳!B96+仕入帳!B99+仕入帳!B102+仕入帳!B105+仕入帳!B108+仕入帳!B111+仕入帳!B114+仕入帳!B117+仕入帳!B120+仕入帳!B123+仕入帳!B126+仕入帳!B129+仕入帳!B132+仕入帳!B135+仕入帳!B138+仕入帳!B141+仕入帳!B144+仕入帳!B147+仕入帳!B150+仕入帳!B153+仕入帳!B156+仕入帳!B159+仕入帳!B162+仕入帳!B165+仕入帳!B168+仕入帳!B171+仕入帳!B174+仕入帳!B177+仕入帳!B180+仕入帳!B183+仕入帳!B186+仕入帳!B189+仕入帳!B192+仕入帳!B195+仕入帳!B198+仕入帳!B201+仕入帳!B204+仕入帳!B207+仕入帳!B210+仕入帳!B213+仕入帳!B216+仕入帳!B219+仕入帳!B222+仕入帳!B225+仕入帳!B228+仕入帳!B231+仕入帳!B234+仕入帳!B237+仕入帳!B240+仕入帳!B243+仕入帳!B246+仕入帳!B249+仕入帳!B252+仕入帳!B255+仕入帳!B258+仕入帳!B261+仕入帳!B264+仕入帳!B267+仕入帳!B270+仕入帳!B273+仕入帳!B276+仕入帳!B279+仕入帳!B282+仕入帳!B285+仕入帳!B288+仕入帳!B291+仕入帳!B294+仕入帳!B297+仕入帳!B300+仕入帳!B303+仕入帳!B306+仕入帳!B309+仕入帳!B312+仕入帳!B315+仕入帳!B318+仕入帳!B321+仕入帳!B324 -> 0 | C6: =+仕入帳!C9+仕入帳!C12+仕入帳!C15+仕入帳!C18+仕入帳!C21+仕入帳!C24+仕入帳!C27+仕入帳!C30+仕入帳!C33+仕入帳!C36+仕入帳!C39+仕入帳!C42+仕入帳!C45+仕入帳!C48+仕入帳!C51+仕入帳!C54+仕入帳!C57+仕入帳!C60+仕入帳!C63+仕入帳!C66+仕入帳!C69+仕入帳!C72+仕入帳!C75+仕入帳!C78+仕入帳!C81+仕入帳!C84+仕入帳!C87+仕入帳!C90+仕入帳!C93+仕入帳!C96+仕入帳!C99+仕入帳!C102+仕入帳!C105+仕入帳!C108+仕入帳!C111+仕入帳!C114+仕入帳!C117+仕入帳!C120+仕入帳!C123+仕入帳!C126+仕入帳!C129+仕入帳!C132+仕入帳!C135+仕入帳!C138+仕入帳!C141+仕入帳!C144+仕入帳!C147+仕入帳!C150+仕入帳!C153+仕入帳!C156+仕入帳!C159+仕入帳!C162+仕入帳!C165+仕入帳!C168+仕入帳!C171+仕入帳!C174+仕入帳!C177+仕入帳!C180+仕入帳!C183+仕入帳!C186+仕入帳!C189+仕入帳!C192+仕入帳!C195+仕入帳!C198+仕入帳!C201+仕入帳!C204+仕入帳!C207+仕入帳!C210+仕入帳!C213+仕入帳!C216+仕入帳!C219+仕入帳!C222+仕入帳!C225+仕入帳!C228+仕入帳!C231+仕入帳!C234+仕入帳!C237+仕入帳!C240+仕入帳!C243+仕入帳!C246+仕入帳!C249+仕入帳!C252+仕入帳!C255+仕入帳!C258+仕入帳!C261+仕入帳!C264+仕入帳!C267+仕入帳!C270+仕入帳!C273+仕入帳!C276+仕入帳!C279+仕入帳!C282+仕入帳!C285+仕入帳!C288+仕入帳!C291+仕入帳!C294+仕入帳!C297+仕入帳!C300+仕入帳!C303+仕入帳!C306+仕入帳!C309+仕入帳!C312+仕入帳!C315+仕入帳!C318+仕入帳!C321+仕入帳!C324 -> 0 | D6: =+仕入帳!D9+仕入帳!D12+仕入帳!D15+仕入帳!D18+仕入帳!D21+仕入帳!D24+仕入帳!D27+仕入帳!D30+仕入帳!D33+仕入帳!D36+仕入帳!D39+仕入帳!D42+仕入帳!D45+仕入帳!D48+仕入帳!D51+仕入帳!D54+仕入帳!D57+仕入帳!D60+仕入帳!D63+仕入帳!D66+仕入帳!D69+仕入帳!D72+仕入帳!D75+仕入帳!D78+仕入帳!D81+仕入帳!D84+仕入帳!D87+仕入帳!D90+仕入帳!D93+仕入帳!D96+仕入帳!D99+仕入帳!D102+仕入帳!D105+仕入帳!D108+仕入帳!D111+仕入帳!D114+仕入帳!D117+仕入帳!D120+仕入帳!D123+仕入帳!D126+仕入帳!D129+仕入帳!D132+仕入帳!D135+仕入帳!D138+仕入帳!D141+仕入帳!D144+仕入帳!D147+仕入帳!D150+仕入帳!D153+仕入帳!D156+仕入帳!D159+仕入帳!D162+仕入帳!D165+仕入帳!D168+仕入帳!D171+仕入帳!D174+仕入帳!D177+仕入帳!D180+仕入帳!D183+仕入帳!D186+仕入帳!D189+仕入帳!D192+仕入帳!D195+仕入帳!D198+仕入帳!D201+仕入帳!D204+仕入帳!D207+仕入帳!D210+仕入帳!D213+仕入帳!D216+仕入帳!D219+仕入帳!D222+仕入帳!D225+仕入帳!D228+仕入帳!D231+仕入帳!D234+仕入帳!D237+仕入帳!D240+仕入帳!D243+仕入帳!D246+仕入帳!D249+仕入帳!D252+仕入帳!D255+仕入帳!D258+仕入帳!D261+仕入帳!D264+仕入帳!D267+仕入帳!D270+仕入帳!D273+仕入帳!D276+仕入帳!D279+仕入帳!D282+仕入帳!D285+仕入帳!D288+仕入帳!D291+仕入帳!D294+仕入帳!D297+仕入帳!D300+仕入帳!D303+仕入帳!D306+仕入帳!D309+仕入帳!D312+仕入帳!D315+仕入帳!D318+仕入帳!D321+仕入帳!D324 -> 0 | E6: =+仕入帳!E9+仕入帳!E12+仕入帳!E15+仕入帳!E18+仕入帳!E21+仕入帳!E24+仕入帳!E27+仕入帳!E30+仕入帳!E33+仕入帳!E36+仕入帳!E39+仕入帳!E42+仕入帳!E45+仕入帳!E48+仕入帳!E51+仕入帳!E54+仕入帳!E57+仕入帳!E60+仕入帳!E63+仕入帳!E66+仕入帳!E69+仕入帳!E72+仕入帳!E75+仕入帳!E78+仕入帳!E81+仕入帳!E84+仕入帳!E87+仕入帳!E90+仕入帳!E93+仕入帳!E96+仕入帳!E99+仕入帳!E102+仕入帳!E105+仕入帳!E108+仕入帳!E111+仕入帳!E114+仕入帳!E117+仕入帳!E120+仕入帳!E123+仕入帳!E126+仕入帳!E129+仕入帳!E132+仕入帳!E135+仕入帳!E138+仕入帳!E141+仕入帳!E144+仕入帳!E147+仕入帳!E150+仕入帳!E153+仕入帳!E156+仕入帳!E159+仕入帳!E162+仕入帳!E165+仕入帳!E168+仕入帳!E171+仕入帳!E174+仕入帳!E177+仕入帳!E180+仕入帳!E183+仕入帳!E186+仕入帳!E189+仕入帳!E192+仕入帳!E195+仕入帳!E198+仕入帳!E201+仕入帳!E204+仕入帳!E207+仕入帳!E210+仕入帳!E213+仕入帳!E216+仕入帳!E219+仕入帳!E222+仕入帳!E225+仕入帳!E228+仕入帳!E231+仕入帳!E234+仕入帳!E237+仕入帳!E240+仕入帳!E243+仕入帳!E246+仕入帳!E249+仕入帳!E252+仕入帳!E255+仕入帳!E258+仕入帳!E261+仕入帳!E264+仕入帳!E267+仕入帳!E270+仕入帳!E273+仕入帳!E276+仕入帳!E279+仕入帳!E282+仕入帳!E285+仕入帳!E288+仕入帳!E291+仕入帳!E294+仕入帳!E297+仕入帳!E300+仕入帳!E303+仕入帳!E306+仕入帳!E309+仕入帳!E312+仕入帳!E315+仕入帳!E318+仕入帳!E321+仕入帳!E324 -> 0 | F6: =+仕入帳!F9+仕入帳!F12+仕入帳!F15+仕入帳!F18+仕入帳!F21+仕入帳!F24+仕入帳!F27+仕入帳!F30+仕入帳!F33+仕入帳!F36+仕入帳!F39+仕入帳!F42+仕入帳!F45+仕入帳!F48+仕入帳!F51+仕入帳!F54+仕入帳!F57+仕入帳!F60+仕入帳!F63+仕入帳!F66+仕入帳!F69+仕入帳!F72+仕入帳!F75+仕入帳!F78+仕入帳!F81+仕入帳!F84+仕入帳!F87+仕入帳!F90+仕入帳!F93+仕入帳!F96+仕入帳!F99+仕入帳!F102+仕入帳!F105+仕入帳!F108+仕入帳!F111+仕入帳!F114+仕入帳!F117+仕入帳!F120+仕入帳!F123+仕入帳!F126+仕入帳!F129+仕入帳!F132+仕入帳!F135+仕入帳!F138+仕入帳!F141+仕入帳!F144+仕入帳!F147+仕入帳!F150+仕入帳!F153+仕入帳!F156+仕入帳!F159+仕入帳!F162+仕入帳!F165+仕入帳!F168+仕入帳!F171+仕入帳!F174+仕入帳!F177+仕入帳!F180+仕入帳!F183+仕入帳!F186+仕入帳!F189+仕入帳!F192+仕入帳!F195+仕入帳!F198+仕入帳!F201+仕入帳!F204+仕入帳!F207+仕入帳!F210+仕入帳!F213+仕入帳!F216+仕入帳!F219+仕入帳!F222+仕入帳!F225+仕入帳!F228+仕入帳!F231+仕入帳!F234+仕入帳!F237+仕入帳!F240+仕入帳!F243+仕入帳!F246+仕入帳!F249+仕入帳!F252+仕入帳!F255+仕入帳!F258+仕入帳!F261+仕入帳!F264+仕入帳!F267+仕入帳!F270+仕入帳!F273+仕入帳!F276+仕入帳!F279+仕入帳!F282+仕入帳!F285+仕入帳!F288+仕入帳!F291+仕入帳!F294+仕入帳!F297+仕入帳!F300+仕入帳!F303+仕入帳!F306+仕入帳!F309+仕入帳!F312+仕入帳!F315+仕入帳!F318+仕入帳!F321+仕入帳!F324 -> 0 | G6: =+仕入帳!G9+仕入帳!G12+仕入帳!G15+仕入帳!G18+仕入帳!G21+仕入帳!G24+仕入帳!G27+仕入帳!G30+仕入帳!G33+仕入帳!G36+仕入帳!G39+仕入帳!G42+仕入帳!G45+仕入帳!G48+仕入帳!G51+仕入帳!G54+仕入帳!G57+仕入帳!G60+仕入帳!G63+仕入帳!G66+仕入帳!G69+仕入帳!G72+仕入帳!G75+仕入帳!G78+仕入帳!G81+仕入帳!G84+仕入帳!G87+仕入帳!G90+仕入帳!G93+仕入帳!G96+仕入帳!G99+仕入帳!G102+仕入帳!G105+仕入帳!G108+仕入帳!G111+仕入帳!G114+仕入帳!G117+仕入帳!G120+仕入帳!G123+仕入帳!G126+仕入帳!G129+仕入帳!G132+仕入帳!G135+仕入帳!G138+仕入帳!G141+仕入帳!G144+仕入帳!G147+仕入帳!G150+仕入帳!G153+仕入帳!G156+仕入帳!G159+仕入帳!G162+仕入帳!G165+仕入帳!G168+仕入帳!G171+仕入帳!G174+仕入帳!G177+仕入帳!G180+仕入帳!G183+仕入帳!G186+仕入帳!G189+仕入帳!G192+仕入帳!G195+仕入帳!G198+仕入帳!G201+仕入帳!G204+仕入帳!G207+仕入帳!G210+仕入帳!G213+仕入帳!G216+仕入帳!G219+仕入帳!G222+仕入帳!G225+仕入帳!G228+仕入帳!G231+仕入帳!G234+仕入帳!G237+仕入帳!G240+仕入帳!G243+仕入帳!G246+仕入帳!G249+仕入帳!G252+仕入帳!G255+仕入帳!G258+仕入帳!G261+仕入帳!G264+仕入帳!G267+仕入帳!G270+仕入帳!G273+仕入帳!G276+仕入帳!G279+仕入帳!G282+仕入帳!G285+仕入帳!G288+仕入帳!G291+仕入帳!G294+仕入帳!G297+仕入帳!G300+仕入帳!G303+仕入帳!G306+仕入帳!G309+仕入帳!G312+仕入帳!G315+仕入帳!G318+仕入帳!G321+仕入帳!G324 -> 0 | H6: =+仕入帳!H9+仕入帳!H12+仕入帳!H15+仕入帳!H18+仕入帳!H21+仕入帳!H24+仕入帳!H27+仕入帳!H30+仕入帳!H33+仕入帳!H36+仕入帳!H39+仕入帳!H42+仕入帳!H45+仕入帳!H48+仕入帳!H51+仕入帳!H54+仕入帳!H57+仕入帳!H60+仕入帳!H63+仕入帳!H66+仕入帳!H69+仕入帳!H72+仕入帳!H75+仕入帳!H78+仕入帳!H81+仕入帳!H84+仕入帳!H87+仕入帳!H90+仕入帳!H93+仕入帳!H96+仕入帳!H99+仕入帳!H102+仕入帳!H105+仕入帳!H108+仕入帳!H111+仕入帳!H114+仕入帳!H117+仕入帳!H120+仕入帳!H123+仕入帳!H126+仕入帳!H129+仕入帳!H132+仕入帳!H135+仕入帳!H138+仕入帳!H141+仕入帳!H144+仕入帳!H147+仕入帳!H150+仕入帳!H153+仕入帳!H156+仕入帳!H159+仕入帳!H162+仕入帳!H165+仕入帳!H168+仕入帳!H171+仕入帳!H174+仕入帳!H177+仕入帳!H180+仕入帳!H183+仕入帳!H186+仕入帳!H189+仕入帳!H192+仕入帳!H195+仕入帳!H198+仕入帳!H201+仕入帳!H204+仕入帳!H207+仕入帳!H210+仕入帳!H213+仕入帳!H216+仕入帳!H219+仕入帳!H222+仕入帳!H225+仕入帳!H228+仕入帳!H231+仕入帳!H234+仕入帳!H237+仕入帳!H240+仕入帳!H243+仕入帳!H246+仕入帳!H249+仕入帳!H252+仕入帳!H255+仕入帳!H258+仕入帳!H261+仕入帳!H264+仕入帳!H267+仕入帳!H270+仕入帳!H273+仕入帳!H276+仕入帳!H279+仕入帳!H282+仕入帳!H285+仕入帳!H288+仕入帳!H291+仕入帳!H294+仕入帳!H297+仕入帳!H300+仕入帳!H303+仕入帳!H306+仕入帳!H309+仕入帳!H312+仕入帳!H315+仕入帳!H318+仕入帳!H321+仕入帳!H324 -> 0 | I6: =+仕入帳!I9+仕入帳!I12+仕入帳!I15+仕入帳!I18+仕入帳!I21+仕入帳!I24+仕入帳!I27+仕入帳!I30+仕入帳!I33+仕入帳!I36+仕入帳!I39+仕入帳!I42+仕入帳!I45+仕入帳!I48+仕入帳!I51+仕入帳!I54+仕入帳!I57+仕入帳!I60+仕入帳!I63+仕入帳!I66+仕入帳!I69+仕入帳!I72+仕入帳!I75+仕入帳!I78+仕入帳!I81+仕入帳!I84+仕入帳!I87+仕入帳!I90+仕入帳!I93+仕入帳!I96+仕入帳!I99+仕入帳!I102+仕入帳!I105+仕入帳!I108+仕入帳!I111+仕入帳!I114+仕入帳!I117+仕入帳!I120+仕入帳!I123+仕入帳!I126+仕入帳!I129+仕入帳!I132+仕入帳!I135+仕入帳!I138+仕入帳!I141+仕入帳!I144+仕入帳!I147+仕入帳!I150+仕入帳!I153+仕入帳!I156+仕入帳!I159+仕入帳!I162+仕入帳!I165+仕入帳!I168+仕入帳!I171+仕入帳!I174+仕入帳!I177+仕入帳!I180+仕入帳!I183+仕入帳!I186+仕入帳!I189+仕入帳!I192+仕入帳!I195+仕入帳!I198+仕入帳!I201+仕入帳!I204+仕入帳!I207+仕入帳!I210+仕入帳!I213+仕入帳!I216+仕入帳!I219+仕入帳!I222+仕入帳!I225+仕入帳!I228+仕入帳!I231+仕入帳!I234+仕入帳!I237+仕入帳!I240+仕入帳!I243+仕入帳!I246+仕入帳!I249+仕入帳!I252+仕入帳!I255+仕入帳!I258+仕入帳!I261+仕入帳!I264+仕入帳!I267+仕入帳!I270+仕入帳!I273+仕入帳!I276+仕入帳!I279+仕入帳!I282+仕入帳!I285+仕入帳!I288+仕入帳!I291+仕入帳!I294+仕入帳!I297+仕入帳!I300+仕入帳!I303+仕入帳!I306+仕入帳!I309+仕入帳!I312+仕入帳!I315+仕入帳!I318+仕入帳!I321+仕入帳!I324 -> 0 | ... M6: =+仕入帳!M9+仕入帳!M12+仕入帳!M15+仕入帳!M18+仕入帳!M21+仕入帳!M24+仕入帳!M27+仕入帳!M30+仕入帳!M33+仕入帳!M36+仕入帳!M39+仕入帳!M42+仕入帳!M45+仕入帳!M48+仕入帳!M51+仕入帳!M54+仕入帳!M57+仕入帳!M60+仕入帳!M63+仕入帳!M66+仕入帳!M69+仕入帳!M72+仕入帳!M75+仕入帳!M78+仕入帳!M81+仕入帳!M84+仕入帳!M87+仕入帳!M90+仕入帳!M93+仕入帳!M96+仕入帳!M99+仕入帳!M102+仕入帳!M105+仕入帳!M108+仕入帳!M111+仕入帳!M114+仕入帳!M117+仕入帳!M120+仕入帳!M123+仕入帳!M126+仕入帳!M129+仕入帳!M132+仕入帳!M135+仕入帳!M138+仕入帳!M141+仕入帳!M144+仕入帳!M147+仕入帳!M150+仕入帳!M153+仕入帳!M156+仕入帳!M159+仕入帳!M162+仕入帳!M165+仕入帳!M168+仕入帳!M171+仕入帳!M174+仕入帳!M177+仕入帳!M180+仕入帳!M183+仕入帳!M186+仕入帳!M189+仕入帳!M192+仕入帳!M195+仕入帳!M198+仕入帳!M201+仕入帳!M204+仕入帳!M207+仕入帳!M210+仕入帳!M213+仕入帳!M216+仕入帳!M219+仕入帳!M222+仕入帳!M225+仕入帳!M228+仕入帳!M231+仕入帳!M234+仕入帳!M237+仕入帳!M240+仕入帳!M243+仕入帳!M246+仕入帳!M249+仕入帳!M252+仕入帳!M255+仕入帳!M258+仕入帳!M261+仕入帳!M264+仕入帳!M267+仕入帳!M270+仕入帳!M273+仕入帳!M276+仕入帳!M279+仕入帳!M282+仕入帳!M285+仕入帳!M288+仕入帳!M291+仕入帳!M294+仕入帳!M297+仕入帳!M300+仕入帳!M303+仕入帳!M306+仕入帳!M309+仕入帳!M312+仕入帳!M315+仕入帳!M318+仕入帳!M321+仕入帳!M324 -> 0
B7: =+A7+B5-B6 -> 0 | C7: =+B7+C5-C6 -> 0 | D7: =+C7+D5-D6 -> 0 | E7: 0 | F7: 0 | G7: 0 | H7: 0 | I7: 0 | J7: 0 | K7: 0 | L7: 0 | M7: 0
D8: 0 | E8: 0 | F8: 0 | G8: 0 | J8: 0 | K8: 0 | L8: 0 | M8: 0 | N8: =SUM(B8:M8) -> 0
B10: =+A10+B8-B9 -> 0 | C10: =+B10+C8-C9 -> 0 | D10: =+C10+D8-D9 -> 0 | E10: 0 | F10: 0 | G10: 0 | H10: 0 | I10: 0 | J10: 0 | K10: 0 | L10: 0 | M10: 0
C11: =+D12 -> 0 | D11: =+E12 -> 0 | E11: =+F12 -> 0 | F11: =+G12 -> 0 | G11: =+H12 -> 0 | H11: =+I12 -> 0 | I11: =+J12 -> 0 | J11: =+K12 -> 0 | K11: =+L12 -> 0 | L11: 0 | M11: 0 | N11: =SUM(B11:M11) -> 0
N12: 0
B13: 0 | C13: 0 | D13: 0 | E13: 0 | F13: 0 | G13: =+F13+G11-G12 -> 0 | H13: =+G13+H11-H12 -> 0 | I13: =+H13+I11-I12 -> 0 | J13: =+I13+J11-J12 -> 0 | K13: =+J13+K11-K12 -> 0 | L13: 0 | M13: 0
D14: 0 | E14: 0 | F14: 0 | G14: 0 | J14: 0 | K14: 0 | L14: 0 | M14: 0 | N14: =SUM(B14:M14) -> 0
B16: =+A16+B14-B15 -> 0 | C16: =+B16+C14-C15 -> 0 | D16: =+C16+D14-D15 -> 0 | E16: 0 | F16: 0 | G16: 0 | H16: 0 | I16: 0 | J16: 0 | K16: 0 | L16: 0 | M16: 0
D17: 0 | E17: 0 | F17: 0 | G17: 0 | J17: 0 | K17: 0 | L17: 0 | M17: 0 | N17: =SUM(B17:M17) -> 0
N18: 0
B19: =+A19+B17-B18 -> 0 | C19: =+B19+C17-C18 -> 0 | D19: =+C19+D17-D18 -> 0 | E19: 0 | F19: 0 | G19: 0 | H19: 0 | I19: 0 | J19: 0 | K19: 0 | L19: 0 | M19: 0
D20: 0 | E20: 0 | F20: 0 | G20: 0 | J20: 0 | K20: 0 | L20: 0 | M20: 0 | N20: =SUM(B20:M20) -> 0
B22: =+A22+B20-B21 -> 0 | C22: =+B22+C20-C21 -> 0 | D22: =+C22+D20-D21 -> 0 | E22: 0 | F22: 0 | G22: 0 | H22: 0 | I22: 0 | J22: 0 | K22: 0 | L22: 0 | M22: 0
D23: 0 | E23: 0 | F23: 0 | G23: 0 | J23: 0 | K23: 0 | L23: 0 | M23: 0 | N23: =SUM(B23:M23) -> 0
N24: 0
B25: =+A25+B23-B24 -> 0 | C25: =+B25+C23-C24 -> 0 | D25: =+C25+D23-D24 -> 0 | E25: 0 | F25: 0 | G25: 0 | H25: 0 | I25: 0 | J25: 0 | K25: 0 | L25: 0 | M25: 0
C26: =+D27 -> 0 | D26: =+E27 -> 0 | E26: =+F27 -> 0 | F26: =+G27 -> 0 | G26: =+H27 -> 0 | H26: =+I27 -> 0 | I26: =+J27 -> 0 | J26: =+K27 -> 0 | K26: =+L27 -> 0 | L26: 0 | M26: 0 | N26: =SUM(B26:M26) -> 0
B28: 0 | C28: 0 | D28: 0 | E28: 0 | F28: 0 | G28: =+F28+G26-G27 -> 0 | H28: =+G28+H26-H27 -> 0 | I28: =+H28+I26-I27 -> 0 | J28: =+I28+J26-J27 -> 0 | K28: =+J28+K26-K27 -> 0 | L28: 0 | M28: 0
D29: 0 | E29: 0 | F29: 0 | G29: 0 | J29: 0 | K29: 0 | L29: 0 | M29: 0 | N29: =SUM(B29:M29) -> 0
N30: 0
B31: =+A31+B29-B30 -> 0 | C31: =+B31+C29-C30 -> 0 | D31: =+C31+D29-D30 -> 0 | E31: 0 | F31: 0 | G31: 0 | H31: 0 | I31: 0 | J31: 0 | K31: 0 | L31: 0 | M31: 0
D32: 0 | E32: 0 | F32: 0 | G32: 0 | J32: 0 | K32: 0 | L32: 0 | M32: 0 | N32: =SUM(B32:M32) -> 0
N33: 0
B34: =+A34+B32-B33 -> 0 | C34: =+B34+C32-C33 -> 0 | D34: =+C34+D32-D33 -> 0 | E34: 0 | F34: 0 | G34: 0 | H34: 0 | I34: 0 | J34: 0 | K34: 0 | L34: 0 | M34: 0
D35: 0 | E35: 0 | F35: 0 | G35: 0 | J35: 0 | K35: 0 | L35: 0 | M35: 0 | N35: =SUM(B35:M35) -> 0
B37: =+A37+B35-B36 -> 0 | C37: =+B37+C35-C36 -> 0 | D37: =+C37+D35-D36 -> 0 | E37: 0 | F37: 0 | G37: 0 | H37: 0 | I37: 0 | J37: 0 | K37: 0 | L37: 0 | M37: 0
D38: 0 | E38: 0 | F38: 0 | G38: 0 | J38: 0 | K38: 0 | L38: 0 | M38: 0 | N38: =SUM(B38:M38) -> 0
B40: =+A40+B38-B39 -> 0 | C40: =+B40+C38-C39 -> 0 | D40: =+C40+D38-D39 -> 0 | E40: 0 | F40: 0 | G40: 0 | H40: 0 | I40: 0 | J40: 0 | K40: 0 | L40: 0 | M40: 0
C41: =+D42 -> 0 | D41: =+E42 -> 0 | E41: =+F42 -> 0 | F41: =+G42 -> 0 | G41: =+H42 -> 0 | H41: =+I42 -> 0 | I41: =+J42 -> 0 | J41: =+K42 -> 0 | K41: =+L42 -> 0 | L41: 0 | M41: 0 | N41: =SUM(B41:M41) -> 0
N42: 0
B43: 0 | C43: 0 | D43: 0 | E43: 0 | F43: 0 | G43: =+F43+G41-G42 -> 0 | H43: =+G43+H41-H42 -> 0 | I43: =+H43+I41-I42 -> 0 | J43: =+I43+J41-J42 -> 0 | K43: =+J43+K41-K42 -> 0 | L43: 0 | M43: 0
D44: 0 | E44: 0 | F44: 0 | G44: 0 | J44: 0 | K44: 0 | L44: 0 | M44: 0 | N44: =SUM(B44:M44) -> 0
B46: =+A46+B44-B45 -> 0 | C46: =+B46+C44-C45 -> 0 | D46: =+C46+D44-D45 -> 0 | E46: 0 | F46: 0 | G46: 0 | H46: 0 | I46: 0 | J46: 0 | K46: 0 | L46: 0 | M46: 0
D47: 0 | E47: 0 | F47: 0 | G47: 0 | J47: 0 | K47: 0 | L47: 0 | M47: 0 | N47: =SUM(B47:M47) -> 0
...

Sheet 仕入帳
A1: 仕入帳2025 | B1: 3 | C1: =+B1+1 -> 4 | D1: =+C1+1 -> 5 | E1: =+D1+1 -> 6 | F1: =+E1+1 -> 7 | G1: =+F1+1 -> 8 | H1: =+G1+1 -> 9 | I1: =+H1+1 -> 10 | J1: =+I1+1 -> 11 | K1: =+J1+1 -> 12 | L1: 1 | M1: =+L1+1 -> 2
N3: =SUM(N5:N355) -> 0
N5: =+N8+N11+N14+N17+N20+N23+N26+N29+N32+N35+N38+N41+N44+N47+N50+N53+N56+N59+N62+N65+N68+N71+N74+N77+N80+N83+N86+N89+N92+N95+N98+N101+N104+N107+N110+N113+N116+N119+N122+N125+N128+N131+N134+N137+N140+N143+N146+N149+N152+N155+N158+N161+N164+N167+N170+N173+N176+N179+N182+N185+N188+N191+N194+N197+N200+N203+N206+N209+N212+N215+N218+N221+N224+N227+N230+N233+N236+N239+N242+N245+N248+N251+N254+N257+N260+N263+N266+N269+N272+N275+N278+N281+N284+N287+N290+N293+N296+N299+N302+N305+N308+N311+N314+N317+N320+N323 -> 0
D8: 0 | E8: 0 | F8: 0 | G8: 0 | J8: 0 | K8: 0 | L8: 0 | M8: 0 | N8: =SUM(B8:M8) -> 0
N9: 0
B10: =+A10+B8-B9 -> 0 | C10: =+B10+C8-C9 -> 0 | D10: =+C10+D8-D9 -> 0 | E10: 0 | F10: 0 | G10: 0 | H10: 0 | I10: 0 | J10: 0 | K10: 0 | L10: 0 | M10: 0
D11: 0 | E11: 0 | F11: 0 | G11: 0 | J11: 0 | K11: 0 | L11: 0 | M11: 0 | N11: =SUM(B11:M11) -> 0
B13: =+A13+B11-B12 -> 0 | C13: =+B13+C11-C12 -> 0 | D13: =+C13+D11-D12 -> 0 | E13: 0 | F13: 0 | G13: 0 | H13: 0 | I13: 0 | J13: 0 | K13: 0 | L13: 0 | M13: 0
C14: =+D15 -> 0 | D14: =+E15 -> 0 | E14: =+F15 -> 0 | F14: =+G15 -> 0 | G14: =+H15 -> 0 | H14: =+I15 -> 0 | I14: =+J15 -> 0 | J14: =+K15 -> 0 | K14: =+L15 -> 0 | L14: 0 | M14: 0 | N14: =SUM(B14:M14) -> 0
N15: 0
B16: 0 | C16: 0 | D16: 0 | E16: 0 | F16: 0 | G16: =+F16+G14-G15 -> 0 | H16: =+G16+H14-H15 -> 0 | I16: =+H16+I14-I15 -> 0 | J16: =+I16+J14-J15 -> 0 | K16: =+J16+K14-K15 -> 0 | L16: 0 | M16: 0
D17: 0 | E17: 0 | F17: 0 | G17: 0 | J17: 0 | K17: 0 | L17: 0 | M17: 0 | N17: =SUM(B17:M17) -> 0
B19: =+A19+B17-B18 -> 0 | C19: =+B19+C17-C18 -> 0 | D19: =+C19+D17-D18 -> 0 | E19: 0 | F19: 0 | G19: 0 | H19: 0 | I19: 0 | J19: 0 | K19: 0 | L19: 0 | M19: 0
D20: 0 | E20: 0 | F20: 0 | G20: 0 | J20: 0 | K20: 0 | L20: 0 | M20: 0 | N20: =SUM(B20:M20) -> 0
N21: 0
B22: =+A22+B20-B21 -> 0 | C22: =+B22+C20-C21 -> 0 | D22: =+C22+D20-D21 -> 0 | E22: 0 | F22: 0 | G22: 0 | H22: 0 | I22: 0 | J22: 0 | K22: 0 | L22: 0 | M22: 0
D23: 0 | E23: 0 | F23: 0 | G23: 0 | J23: 0 | K23: 0 | L23: 0 | M23: 0 | N23: =SUM(B23:M23) -> 0
B25: =+A25+B23-B24 -> 0 | C25: =+B25+C23-C24 -> 0 | D25: =+C25+D23-D24 -> 0 | E25: 0 | F25: 0 | G25: 0 | H25: 0 | I25: 0 | J25: 0 | K25: 0 | L25: 0 | M25: 0
D26: 0 | E26: 0 | F26: 0 | G26: 0 | J26: 0 | K26: 0 | L26: 0 | M26: 0 | N26: =SUM(B26:M26) -> 0
N27: 0
B28: =+A28+B26-B27 -> 0 | C28: =+B28+C26-C27 -> 0 | D28: =+C28+D26-D27 -> 0 | E28: 0 | F28: 0 | G28: 0 | H28: 0 | I28: 0 | J28: 0 | K28: 0 | L28: 0 | M28: 0
C29: =+D30 -> 0 | D29: =+E30 -> 0 | E29: =+F30 -> 0 | F29: =+G30 -> 0 | G29: =+H30 -> 0 | H29: =+I30 -> 0 | I29: =+J30 -> 0 | J29: =+K30 -> 0 | K29: =+L30 -> 0 | L29: 0 | M29: 0 | N29: =SUM(B29:M29) -> 0
B31: 0 | C31: 0 | D31: 0 | E31: 0 | F31: 0 | G31: =+F31+G29-G30 -> 0 | H31: =+G31+H29-H30 -> 0 | I31: =+H31+I29-I30 -> 0 | J31: =+I31+J29-J30 -> 0 | K31: =+J31+K29-K30 -> 0 | L31: 0 | M31: 0
D32: 0 | E32: 0 | F32: 0 | G32: 0 | J32: 0 | K32: 0 | L32: 0 | M32: 0 | N32: =SUM(B32:M32) -> 0
N33: 0
B34: =+A34+B32-B33 -> 0 | C34: =+B34+C32-C33 -> 0 | D34: =+C34+D32-D33 -> 0 | E34: 0 | F34: 0 | G34: 0 | H34: 0 | I34: 0 | J34: 0 | K34: 0 | L34: 0 | M34: 0
D35: 0 | E35: 0 | F35: 0 | G35: 0 | J35: 0 | K35: 0 | L35: 0 | M35: 0 | N35: =SUM(B35:M35) -> 0
N36: 0
B37: =+A37+B35-B36 -> 0 | C37: =+B37+C35-C36 -> 0 | D37: =+C37+D35-D36 -> 0 | E37: 0 | F37: 0 | G37: 0 | H37: 0 | I37: 0 | J37: 0 | K37: 0 | L37: 0 | M37: 0
D38: 0 | E38: 0 | F38: 0 | G38: 0 | J38: 0 | K38: 0 | L38: 0 | M38: 0 | N38: =SUM(B38:M38) -> 0
B40: =+A40+B38-B39 -> 0 | C40: =+B40+C38-C39 -> 0 | D40: =+C40+D38-D39 -> 0 | E40: 0 | F40: 0 | G40: 0 | H40: 0 | I40: 0 | J40: 0 | K40: 0 | L40: 0 | M40: 0
D41: 0 | E41: 0 | F41: 0 | G41: 0 | J41: 0 | K41: 0 | L41: 0 | M41: 0 | N41: =SUM(B41:M41) -> 0
B43: =+A43+B41-B42 -> 0 | C43: =+B43+C41-C42 -> 0 | D43: =+C43+D41-D42 -> 0 | E43: 0 | F43: 0 | G43: 0 | H43: 0 | I43: 0 | J43: 0 | K43: 0 | L43: 0 | M43: 0
C44: =+D45 -> 0 | D44: =+E45 -> 0 | E44: =+F45 -> 0 | F44: =+G45 -> 0 | G44: =+H45 -> 0 | H44: =+I45 -> 0 | I44: =+J45 -> 0 | J44: =+K45 -> 0 | K44: =+L45 -> 0 | L44: 0 | M44: 0 | N44: =SUM(B44:M44) -> 0
N45: 0
B46: 0 | C46: 0 | D46: 0 | E46: 0 | F46: 0 | G46: =+F46+G44-G45 -> 0 | H46: =+G46+H44-H45 -> 0 | I46: =+H46+I44-I45 -> 0 | J46: =+I46+J44-J45 -> 0 | K46: =+J46+K44-K45 -> 0 | L46: 0 | M46: 0
D47: 0 | E47: 0 | F47: 0 | G47: 0 | J47: 0 | K47: 0 | L47: 0 | M47: 0 | N47: =SUM(B47:M47) -> 0
B49: =+A49+B47-B48 -> 0 | C49: =+B49+C47-C48 -> 0 | D49: =+C49+D47-D48 -> 0 | E49: 0 | F49: 0 | G49: 0 | H49: 0 | I49: 0 | J49: 0 | K49: 0 | L49: 0 | M49: 0
D50: 0 | E50: 0 | F50: 0 | G50: 0 | J50: 0 | K50: 0 | L50: 0 | M50: 0 | N50: =SUM(B50:M50) -> 0
B52: =+A52+B50-B51 -> 0 | C52: =+B52+C50-C51 -> 0 | D52: =+C52+D50-D51 -> 0 | E52: 0 | F52: 0 | G52: 0 | H52: 0 | I52: 0 | J52: 0 | K52: 0 | L52: 0 | M52: 0
...
